BEGIN:VCALENDAR
VERSION:2.0
PRODID:-//IP.Board Calendar 4.3.6//EN
METHOD:PUBLISH
CALSCALE:GREGORIAN
X-WR-CALNAME:WOG
BEGIN:VTIMEZONE
TZID:Europe/London
TZURL:http://tzurl.org/zoneinfo/Europe/London
X-LIC-LOCATION:Europe/London
BEGIN:DAYLIGHT
TZOFFSETFROM:+0000
TZOFFSETTO:+0100
TZNAME:BST
DTSTART:20190331T020000Z
RRULE:FREQ=YEARLY;BYMONTH=3;BYDAY=-1SU
END:DAYLIGHT
BEGIN:STANDARD
TZOFFSETFROM:+0100
TZOFFSETTO:+0000
TZNAME:GMT
DTSTART:20191027T020000Z
RRULE:FREQ=YEARLY;BYMONTH=10;BYDAY=-1SU
END:STANDARD
END:VTIMEZONE
BEGIN:VEVENT
SUMMARY:Ивент WOG vs WOG³ 24.02.2019
DTSTAMP:20190222T003234Z
SEQUENCE:0
UID:754-1-5734b46ed07498cf109a779f6d92c724@wogames.info
ORGANIZER;CN="BB_STOP":no-reply@wogames.info
DESCRIPTION:\n	Уже в это 
	воскресенье сос
	тоится ивент. Кто не успел 
	записаться\, записывайтесь !\nWOG - https://docs
	.google.com/spreadsheets/d/1s90m_sAPfw53ECopD-9s_Zbqwdw6ko0LX8BW1FrF1bI/ed
	it#gid=0\n\n	 \n
DTSTART:20190224T150000Z
END:VEVENT
END:VCALENDAR
