BEGIN:VCALENDAR
VERSION:2.0
PRODID:-//IP.Board Calendar 4.3.6//EN
METHOD:PUBLISH
CALSCALE:GREGORIAN
X-WR-CALNAME:WOG
BEGIN:VTIMEZONE
TZID:Europe/London
TZURL:http://tzurl.org/zoneinfo/Europe/London
X-LIC-LOCATION:Europe/London
BEGIN:DAYLIGHT
TZOFFSETFROM:+0000
TZOFFSETTO:+0100
TZNAME:BST
DTSTART:20190331T020000Z
RRULE:FREQ=YEARLY;BYMONTH=3;BYDAY=-1SU
END:DAYLIGHT
BEGIN:STANDARD
TZOFFSETFROM:+0100
TZOFFSETTO:+0000
TZNAME:GMT
DTSTART:20191027T020000Z
RRULE:FREQ=YEARLY;BYMONTH=10;BYDAY=-1SU
END:STANDARD
END:VTIMEZONE
BEGIN:VEVENT
SUMMARY:Weekly Open Games 15.02.2019 - 16.02.2019
DTSTAMP:20190210T182005Z
SEQUENCE:0
UID:751-1-5734b46ed07498cf109a779f6d92c724@wogames.info
ORGANIZER;CN="JackReign":no-reply@wogames.info
DESCRIPTION:\n\n	Сторона 1 - KND + MOR + GHOST + 1ДШР 
	+ JK + A+      |        Сторона 2 - RSG + 5thPK + FOX 
	+ BE + DT + URAL\n\n\n	В пятницу 15.02.2019 играем:\n\n\
	n\n	1.   Le Port   ВС РФ — US 
	Army  [ Остров — Мальден ]  Сторо
	на 1 в атаке\n\n\n\n	            2.
	 Phantom Pain  ВС РФ  
	— ЧДКЗ  [ Остров — Б
	екетов ]   Сторона 1 в оборо
	не\n\n\n\n	3. По количеству иг
	роков\n\n\n\n	Игровой администратор —
	 [KND] FlayeR\n\n	 \n\n\n\n	В субботу 16.02.2019 иг
	раем:\n\n\n\n	1. 
	Зеленогорс
	к   РФ+ЧДКЗ —
	 Ч﻿СО+USMC [ Остро
	в — Че﻿рнорусси﻿я 
	]  Сторона 1 в обороне
	\n\n\n	2. Последний 
	Шанс U﻿S Ar﻿my — ВС РФ 
	[ Остров — Такистан ] 
	Сторона 1 в атаке\n\n\n\n	3
	. По количеству игроков\n\n\n\n	
	Игровой администратор — [FOX] Theo
	ry\n\n\n\n	 \n\n\n\n	Резервные миссии \n\n\n\n	W
	ar never changes ВС РФ — US Army  [ Остров
	 — Черноруссия ]\n\n\n\n	Operation 21 pal
	ms﻿  Bundeswehr — ВС РФ  [ Остро
	в — Лингор ] ﻿\n\n\n	Командов
	ание:\n\n\n\n	\n\n\n	Вним
	ание! Миссии могу
	т быть обновлены в течен
	ие недели! Следите за темами!\n\
	n\n\n	Адрес FTP сервера проекта:\nftp://18
	5.248.102.134\n\n	Адрес автоконфига:\nftp://185.248.102.13
	4/Updater_WOG/ArmA3Sync/WOG_A3/.a3s/autoconfig\n\n	Те
	хническая информация дл
	я подключения (Обновленная):\n\n\n\n	\
	n		Спойлер\n	\n\n	\n		\n			IP игрового сервера: 185
	.248.102.134\n		\n\n		\n			Порт игрового серве
	ра: 3089 \n\n			Пароль: wogames \n\n			TeamSpeak сервер
	: wogames.info:9987\n\n\n			Строка Запуска:\n		\n\n		\n			-m
	od=@CUP_Terrains_Core\;@CUP_Terrains_Maps\;@RHSGREF\;@RHSSAF\;@RHSUSAF\;@R
	HSAFRF\;@WOG_ACE\;@WOG_Mods\;@WOG_Islands\;@task_force_radio\;\n		\n\n		\n
				Репозиторий (Arma3Synс):\n		\n\n		\n			ftp://185.248.102.13
	4/Updater_WOG/ArmA3Sync/WOG_A3/.a3s/autoconfig\n		\n	\n\n\n\n	 \n\n
DTSTART:20190215T180000Z
DTEND:20190216T180000Z
END:VEVENT
END:VCALENDAR
