BEGIN:VCALENDAR
VERSION:2.0
PRODID:-//IP.Board Calendar 4.3.6//EN
METHOD:PUBLISH
CALSCALE:GREGORIAN
X-WR-CALNAME:WOG
BEGIN:VTIMEZONE
TZID:Europe/London
TZURL:http://tzurl.org/zoneinfo/Europe/London
X-LIC-LOCATION:Europe/London
BEGIN:DAYLIGHT
TZOFFSETFROM:+0000
TZOFFSETTO:+0100
TZNAME:BST
DTSTART:20140330T020000Z
RRULE:FREQ=YEARLY;BYMONTH=3;BYDAY=-1SU
END:DAYLIGHT
BEGIN:STANDARD
TZOFFSETFROM:+0100
TZOFFSETTO:+0000
TZNAME:GMT
DTSTART:20141026T020000Z
RRULE:FREQ=YEARLY;BYMONTH=10;BYDAY=-1SU
END:STANDARD
END:VTIMEZONE
BEGIN:VEVENT
SUMMARY:mWOG 03.12.14 - Будничные игры
DTSTAMP:20141202T080208Z
SEQUENCE:0
UID:75-1-5734b46ed07498cf109a779f6d92c724@wogames.info
ORGANIZER;CN="ToxaSM":no-reply@wogames.info
DESCRIPTION:\n\n\n\n\nСписок миссий: \n1. Battle of Fallujah
	 part 1 USMC — TA [Остров — Fallujah] сторона K
	ND.TT в обороне за TA\n2. Wietzendorf Assault Germany 
	KSK — NAPA [Остров — Celle] сторона KND.TT в атак
	е за Germany KSK\n3. First Background Delta Force — T
	L [Остров — Такистан] сторона KND.TT в обо
	роне за TL\n
DTSTART;VALUE=DATE:20141203
END:VEVENT
END:VCALENDAR
