BEGIN:VCALENDAR
VERSION:2.0
PRODID:-//IP.Board Calendar 4.3.6//EN
METHOD:PUBLISH
CALSCALE:GREGORIAN
X-WR-CALNAME:WOG
BEGIN:VTIMEZONE
TZID:Europe/London
TZURL:http://tzurl.org/zoneinfo/Europe/London
X-LIC-LOCATION:Europe/London
BEGIN:DAYLIGHT
TZOFFSETFROM:+0000
TZOFFSETTO:+0100
TZNAME:BST
DTSTART:20190331T020000Z
RRULE:FREQ=YEARLY;BYMONTH=3;BYDAY=-1SU
END:DAYLIGHT
BEGIN:STANDARD
TZOFFSETFROM:+0100
TZOFFSETTO:+0000
TZNAME:GMT
DTSTART:20191027T020000Z
RRULE:FREQ=YEARLY;BYMONTH=10;BYDAY=-1SU
END:STANDARD
END:VTIMEZONE
BEGIN:VEVENT
SUMMARY:Weekly Open Games 11.01.2019 - 12.01.2019
DTSTAMP:20190106T182024Z
SEQUENCE:0
UID:743-1-5734b46ed07498cf109a779f6d92c724@wogames.info
ORGANIZER;CN="JackReign":no-reply@wogames.info
DESCRIPTION:\n\n	Сторона 1 - KND + MOR + GHOST + 1ДШР + 
	JK + A+      |        Сторона 2 - RSG + 5thPK + FOX + BE 
	+ DT + URAL\n\n\n	В пятницу 11.01.2019 играем:\n\n\n\n	1.
	   Beketov Intensifies МСВ РФ — US
	 Army [ Остров — Бекетов ]  Сторо
	на 1 в атаке\n\n\n\n	            2. Odd P
	air﻿  US Army + AAF —  ВС 
	РФ [ Остров — Альтис
	 ]  Сторона 1 в обороне\n\n\
	n\n	3. По количеству игроков\n\n
	\n\n	Игровой администратор — [KND] JackRei
	gn\n\n	 \n\n\n\n	В субботу 12.01.2019 играем:\n\n\n\n	
	1. Haba-Haba  BAF — Taliban + Оп
	олчение  [ Остров 
	— Такистан ]  С
	торона 1 в оборо
	не\n\n\n	2. Бра
	тья славяне  В
	ДВ РФ — ВДВ ЧСО [ Ост
	ров — Быстрица ] Сторона 1
	 в атаке\n\n\n\n	3. По ко
	личеству игроков\n\n\n\n	Игровой ад
	министратор — [FOX] onoda\n\n\n\n	 \n\n\n\n	Ко
	мандование:\n\n\n\n	 \n\n\
	n\n	Внимание! Ми
	ссии могут быть обно
	влены в течение недели!
	 Следите за темами!\n\n\n\n	Адрес FTP се
	рвера проекта:\nftp://185.248.102.134\n\n\n\n	
	Адрес автоконфига:\nftp://185.248.102.134/Updater_WOG/ArmA
	3Sync/WOG_A3/.a3s/autoconfig\n\n\n\n	Тех
	ническая информация для 
	подключения (Обновленная):\n\n\n\n	\n
			Спойлер\n	\n\n	\n		\n			IP игрового сервера: 185.
	248.102.134\n		\n\n		\n			Порт игрового сервер
	а: 3089 \n\n			Пароль: wogames \n\n			TeamSpeak сервер: 
	wogames.info:9987\n\n\n			Строка Запуска:\n		\n\n		\n			-mod=
	@CUP_Terrains_Core\;@CUP_Terrains_Maps\;@RHSGREF\;@RHSSAF\;@RHSUSAF\;@RHSA
	FRF\;@WOG_ACE\;@WOG_Mods\;@WOG_Islands\;@task_force_radio\;\n		\n\n		\n			
	Репозиторий (Arma3Synс):\n		\n\n		\n			ftp://185.248.102.134/U
	pdater_WOG/ArmA3Sync/WOG_A3/.a3s/autoconfig\n		\n\n		\n			 \n		\n	\n\n
DTSTART:20190111T180000Z
DTEND:20190112T205900Z
END:VEVENT
END:VCALENDAR
