BEGIN:VCALENDAR
VERSION:2.0
PRODID:-//IP.Board Calendar 4.3.6//EN
METHOD:PUBLISH
CALSCALE:GREGORIAN
X-WR-CALNAME:WOG
BEGIN:VTIMEZONE
TZID:Europe/London
TZURL:http://tzurl.org/zoneinfo/Europe/London
X-LIC-LOCATION:Europe/London
BEGIN:DAYLIGHT
TZOFFSETFROM:+0000
TZOFFSETTO:+0100
TZNAME:BST
DTSTART:20190331T020000Z
RRULE:FREQ=YEARLY;BYMONTH=3;BYDAY=-1SU
END:DAYLIGHT
BEGIN:STANDARD
TZOFFSETFROM:+0100
TZOFFSETTO:+0000
TZNAME:GMT
DTSTART:20191027T020000Z
RRULE:FREQ=YEARLY;BYMONTH=10;BYDAY=-1SU
END:STANDARD
END:VTIMEZONE
BEGIN:VEVENT
SUMMARY:Weekly Open Games 04.01.2019 - 05.01.2019
DTSTAMP:20190101T111603Z
SEQUENCE:0
UID:740-1-5734b46ed07498cf109a779f6d92c724@wogames.info
ORGANIZER;CN="FlayeR":no-reply@wogames.info
DESCRIPTION:\n\n	В пятницу 04.01.2019 играем:\n\n\n\n	1
	.   Iraqi Freedom US Army — Iraq Arm
	y [ Остров — Такистан ] 
	 Сторона 1 в обороне\n\n\n\n
		            2. Марш на 
	Ла-Манш  ВС CCCР — US Army [
	 Остров — Роше ]  Сторона
	 1 в атаке\n\n\n\n	3. По кол
	ичеству игроков\n\n\n\n	Игровой адми
	нистратор — [KND]FlayeR\n\n	 \n\n\n\n	В субботу
	 05.01.2019 играем:\n\n\n\n	
	1. Жук в м
	уравейнике   
	ТА — Боевики  [ Остров — Ф
	алуджа ]  Сторона 1 в атаке\n
	\n2. liberation Berezino﻿ 
	  ВДВ РФ —  Оп
	олчение [ Остров — 
	Черноруссия ]  Сторона 1 
	в обороне\n\n\n\n	3. По к
	оличеству игроков\n\n\n\n	Игровой 
	администратор — [KND]Dgors\n\n\n\n	 \n\n
	\n\n	Командование:\n\n\n
	\n\n	Внимание! Ми
	ссии могут быть обновл
	ены в течение недели! Следите з
	а темами!\n\n\n\n	 \n\n\n\n	Адрес FTP сервера п
	роекта:\nftp://185.248.102.134\n\n\n\n	Адрес автокон
	фига:\nftp://185.248.102.134/Updater_WOG/ArmA3Sync/WOG_A3/.a3s/autocon
	fig\n\n\n\n	Техническая инф
	ормация для подключения (Обновленн
	ая):\n\n	 \n\n\n\n	\n		Спойлер\n	\n\n	\n		\n			I
	P игрового сервера: 185.248.102.134\n
	\n			Порт игрового сервера: 3089 \n\n			Паро
	ль: wogames \n\n			TeamSpeak сервер: wogames.info:998
	7\n\n\n			Строка Запуска:\n		\n\n		\n			-mod=@CUP_Terrains_Co
	re\;@CUP_Terrains_Maps\;@RHSGREF\;@RHSSAF\;@RHSUSAF\;@RHSAFRF\;@WOG_ACE\;@
	WOG_Mods\;@WOG_Islands\;@task_force_radio\;\n		\n\n		\n			Репоз
	иторий (Arma3Synс):\n		\n\n		\n			ftp://185.248.102.134/Updater_WOG
	/ArmA3Sync/WOG_A3/.a3s/autoconfig\n		\n	\n\n
DTSTART:20190104T180000Z
DTEND:20190105T180000Z
END:VEVENT
END:VCALENDAR
