BEGIN:VCALENDAR
VERSION:2.0
PRODID:-//IP.Board Calendar 4.3.6//EN
METHOD:PUBLISH
CALSCALE:GREGORIAN
X-WR-CALNAME:WOG
BEGIN:VTIMEZONE
TZID:Europe/London
TZURL:http://tzurl.org/zoneinfo/Europe/London
X-LIC-LOCATION:Europe/London
BEGIN:DAYLIGHT
TZOFFSETFROM:+0000
TZOFFSETTO:+0100
TZNAME:BST
DTSTART:20180325T020000Z
RRULE:FREQ=YEARLY;BYMONTH=3;BYDAY=-1SU
END:DAYLIGHT
BEGIN:STANDARD
TZOFFSETFROM:+0100
TZOFFSETTO:+0000
TZNAME:GMT
DTSTART:20181028T020000Z
RRULE:FREQ=YEARLY;BYMONTH=10;BYDAY=-1SU
END:STANDARD
END:VTIMEZONE
BEGIN:VEVENT
SUMMARY:Weekly Open Games 21.12.2018 - 22.12.2018
DTSTAMP:20181216T190007Z
SEQUENCE:0
UID:735-1-5734b46ed07498cf109a779f6d92c724@wogames.info
ORGANIZER;CN="emty":no-reply@wogames.info
DESCRIPTION:\n\n	Сторона 1 - KND + MOR + GHOST + 1ДШ
	Р + A+      |        Сторона 2 - RSG + 5thPK + FOX + BE
	 + DT + URAL\n\n\n\n	 \n\n\n\n	В пятницу 21.12.2018 играем
	:\n\n\n\n	1. Rocket Crisis   USMC —
	 ВС РФ  [ Остров — Стратис ]  Ст
	орона 1 в обороне\n\n\n	2. Operation Uran
	s    ВС РФ — Bundeswehr [ Остро
	в — Роше ]  Сторона 1 в атак
	е\n\n\n\n	3. По количеству игро
	ков\n\n\n\n	Игровой администратор — [KND
	]FlayeR\n\n\n\n	 \n\n\n\n	В субботу 22.12.2018 играем:\n\n
	\n\n	1. Battlefield Reshmaan   US Army 
	— МСВ РФ [ Остров — Решма
	н ]  Сторона 1 в атаке\n\n\n\n	    
	        2.  Le Port  ВС РФ —  
	US Army [ Остров — Мальден 2035
	 ]  Сторона 1 в обороне\n\n\
	n\n	3. По количеству игроков\n\n
	\n\n	Игровой администратор — [FOX]Theo
	ry\n\n\n\n	 \n\n\n\n	Командование:\n\n\n\n	\n\n\n\
	n	 \n\n\n\n	Внимание!
	 Миссии могут быть об
	новлены в течение недели! Следи
	те за темами!\n\n\n\n	 \n\n\n\n	Адрес FTP се
	рвера проекта:\nftp://185.248.102.134\n\n\n\n	
	Адрес автоконфига:\nftp://185.248.102.134/Updater_WOG/ArmA
	3Sync/WOG_A3/.a3s/autoconfig\n\n\n\n	Тех
	ническая информация для 
	подключения (Обновленная):\n\n\n\n	\n
			Спойлер\n	\n\n	\n		\n			IP игрового сервера: 
	185.248.102.134\n\n			Порт игрового сервера: 
	3089 \n\n			Пароль: wogames \n\n			TeamSpeak сервер: wogam
	es.info:9987\n\n\n			Строка Запуска:\n		\n\n		\n			-mod=@CUP_
	Terrains_Core\;@CUP_Terrains_Maps\;@RHSGREF\;@RHSSAF\;@RHSUSAF\;@RHSAFRF\;
	@WOG_ACE\;@WOG_Mods\;@WOG_Islands\;@task_force_radio\;\n		\n\n		\n			
	Репозиторий (Arma3Synс):\n		\n\n		\n			ftp://185.248.102.134/U
	pdater_WOG/ArmA3Sync/WOG_A3/.a3s/autoconfig\n		\n	\n\n
DTSTART:20181221T180000Z
DTEND:20181222T180000Z
END:VEVENT
END:VCALENDAR
