BEGIN:VCALENDAR
VERSION:2.0
PRODID:-//IP.Board Calendar 4.3.6//EN
METHOD:PUBLISH
CALSCALE:GREGORIAN
X-WR-CALNAME:WOG
BEGIN:VTIMEZONE
TZID:Europe/London
TZURL:http://tzurl.org/zoneinfo/Europe/London
X-LIC-LOCATION:Europe/London
BEGIN:DAYLIGHT
TZOFFSETFROM:+0000
TZOFFSETTO:+0100
TZNAME:BST
DTSTART:20180325T020000Z
RRULE:FREQ=YEARLY;BYMONTH=3;BYDAY=-1SU
END:DAYLIGHT
BEGIN:STANDARD
TZOFFSETFROM:+0100
TZOFFSETTO:+0000
TZNAME:GMT
DTSTART:20181028T020000Z
RRULE:FREQ=YEARLY;BYMONTH=10;BYDAY=-1SU
END:STANDARD
END:VTIMEZONE
BEGIN:VEVENT
SUMMARY:Weekly Open Games 03.08.2018 - 04.08.2018
DTSTAMP:20180730T180205Z
SEQUENCE:0
UID:712-1-5734b46ed07498cf109a779f6d92c724@wogames.info
ORGANIZER;CN="FlayeR":no-reply@wogames.info
DESCRIPTION:\n\n	Сторона 1:  KND GHOST RSG B
	E         |        Сторона 2:  FOX 5thPK A+ MOR\n(Rota
	tion  is coming)\n\n\n\n	 \n\n\n\n	В пятницу 03.08.2018 и
	граем:\n\n\n\n	                1. The Boar that stuck 
	Iraq Army —  US Army [ Остров — Фал
	уджа ]  Сторона 1 в атаке\n\n\n\
	n	              2. Санте-М
	ария  PMC — PMC [ Остров —
	 Малден ] Сторона 1 в оборон
	е\n\n\n\n	3. По количеству игрок
	ов\n\n\n\n	Игровой администратор — [RSG] 
	Dgors\n\n\n\n	 \n\n\n\n	В субботу 04.08.2018 играем:
	\n\n\n\n	              1. Дропш
	от  ВС РФ — USMC [ Остров — На
	пф ] Сторона 1 в обороне\n\n\n\n	      2. Se
	nd In The Rangers ISAF — ТА [ Остров 
	— Литиум ] Сторона 1 в атаке
	\n\n\n\n	3. По количеству игроков
	\n\n\n\n	Игровой администратор — [FOX] o
	noda\n\n\n\n	 \n\n\n\n	Командование:\n\n\n\n	\n\n\
	n	 \n\n\n\n	Внимание!
	 Миссии могут быть о
	бновлены в течение недели! С
	ледите за темами!\n\n	 \n\n\n\n	В
	НИМАНИЕ!\n\n\n\n	Измени
	лся адрес FTP сервера проекта\, акту
	альный теперь:\nftp://185.248.102.13
	4\n\n\n\n	Соответственно поменялся 
	адрес автоконфига:\nftp://185.248.102.134/Updater_WOG/ArmA
	3Sync/WOG_A3/.a3s/autoconfig\n\n\n\n	Тех
	ническая информация для 
	подключения (Обновленная):\n\n\n\n	\n
			Спойлер\n	\n\n	\n		\n			IP игрового се
	рвера: 195.2.253.152\nПорт игрового сер
	вера: 3089 \nПароль: wogames \nTeamSpeak сервер: 
	wogames.info:9987\n\nСтрока Запуска:\n		\n\n		\n\n-mod=@CUP_T
	errains_Core\;@CUP_Terrains_Maps\;@RHSGREF\;@RHSSAF\;@RHSUSAF\;@RHSAFRF\;@
	WOG_ACE\;@WOG_Mods\;@WOG_Islands\;@WOG3_Islands\;@task_force_radio\;\n\n		
	\n			 \n		\n\n		\n			Репозиторий (Arma3Synс):\n		\n\n		\n			f
	tp://185.248.102.134/Updater_WOG/ArmA3Sync/WOG_A3/.a3s/autoconfig\n		\n	\n
	\n\n\n	 \n\n\n\n	 \n\n
DTSTART:20180803T180000Z
DTEND:20180804T185500Z
END:VEVENT
END:VCALENDAR
