BEGIN:VCALENDAR
VERSION:2.0
PRODID:-//IP.Board Calendar 4.3.6//EN
METHOD:PUBLISH
CALSCALE:GREGORIAN
X-WR-CALNAME:WOG
BEGIN:VTIMEZONE
TZID:Europe/London
TZURL:http://tzurl.org/zoneinfo/Europe/London
X-LIC-LOCATION:Europe/London
BEGIN:DAYLIGHT
TZOFFSETFROM:+0000
TZOFFSETTO:+0100
TZNAME:BST
DTSTART:20140330T020000Z
RRULE:FREQ=YEARLY;BYMONTH=3;BYDAY=-1SU
END:DAYLIGHT
BEGIN:STANDARD
TZOFFSETFROM:+0100
TZOFFSETTO:+0000
TZNAME:GMT
DTSTART:20141026T020000Z
RRULE:FREQ=YEARLY;BYMONTH=10;BYDAY=-1SU
END:STANDARD
END:VTIMEZONE
BEGIN:VEVENT
SUMMARY:mWOG 26.11.14 - Будничные игры
DTSTAMP:20141124T101843Z
SEQUENCE:1
UID:71-1-5734b46ed07498cf109a779f6d92c724@wogames.info
ORGANIZER;CN="ToxaSM":no-reply@wogames.info
DESCRIPTION:\n\n\n\n\nСписок миссий:\n1. Flank Attack
	 2 ЧСО — TA+Ins [Остров — Fallujah] сто
	рона KND.TT в атаке за ЧСО\n2. Выбор 
	ВС РФ — USMC [Остров — Chernarus] сторон
	а KND.TT в обороне за USMC\n3. Всё пошло
	 не так TL — USMC [Остров — Capraia] сторона KND.TT
	 в атаке за TL\n
DTSTART;VALUE=DATE:20141126
END:VEVENT
END:VCALENDAR
