BEGIN:VCALENDAR
VERSION:2.0
PRODID:-//IP.Board Calendar 4.3.6//EN
METHOD:PUBLISH
CALSCALE:GREGORIAN
X-WR-CALNAME:WOG
BEGIN:VTIMEZONE
TZID:Europe/London
TZURL:http://tzurl.org/zoneinfo/Europe/London
X-LIC-LOCATION:Europe/London
BEGIN:DAYLIGHT
TZOFFSETFROM:+0000
TZOFFSETTO:+0100
TZNAME:BST
DTSTART:20180325T020000Z
RRULE:FREQ=YEARLY;BYMONTH=3;BYDAY=-1SU
END:DAYLIGHT
BEGIN:STANDARD
TZOFFSETFROM:+0100
TZOFFSETTO:+0000
TZNAME:GMT
DTSTART:20181028T020000Z
RRULE:FREQ=YEARLY;BYMONTH=10;BYDAY=-1SU
END:STANDARD
END:VTIMEZONE
BEGIN:VEVENT
SUMMARY:Weekly Open Games 06.07.2018-07.07.2018
DTSTAMP:20180702T170411Z
SEQUENCE:0
UID:705-1-5734b46ed07498cf109a779f6d92c724@wogames.info
ORGANIZER;CN="JackReign":no-reply@wogames.info
DESCRIPTION:\n\n	Сторона 1:  KND GHOST RSG B
	E         |        Сторона 2:  FOX 5thPK A+ MOR
	\n\n\n\n	 \n\n\n\n	В пятницу 06.07.2018 играем:\n\n\n\n	1.
	 British ambitions BAF — Такистан
	ская армия [Остров — FATA
	] Сторона 1 в атаке\n
	\n\n\n	2. КПП Лопат
	ино ЧСО — ЧДКЗ [Остро
	в — Черноруссия] Сторона 1
	 в обороне\n\n\n\n	3. По ко
	личеству игроков\n\n\n\n	Игровой адм
	инистратор — [RSG] First\n\n	 \n\n\n\n	В с
	вязи с проведением 07.07.2018 в 2
	1-00 (по МСК)\, матча
	 1/4 Чемпионата
	 Мира по фут
	болу между 
	сборными Ро
	ссии и Хорв
	атии\, Адм
	инистра
	ция прин
	яла реше
	ние не выставля
	ть на субботу зар
	анее запланированн
	ые списки миссий. \
	n\n\n\n	Миссии бу
	дут поставлены
	 в соответствии с пришедш
	им на игры количеством игроков.\n\
	n\n	 \n\n\n\n	В субботу 07.07.2018 играем
	:\n\n\n\n	1. По количеству игроков\
	n\n\n\n	2. По количеству игроков \n
	\n\n\n	3. По количеству игроков\
	n\n\n\n	Игровой администратор — [FOX] 
	onoda\n\n\n\n	 \n\n\n\n	Командование:\n\n\n
	\n	\n\n\n	Внимание! М
	иссии могут быт
	ь обновлены в 
	течение недел
	и! Следите за темами!\n
	\nТехническая информация для под
	ключения:\n\n\n\n	\n		Спойлер\n	\n\n	\n		\n
				IP игрового сервера: 195.2.253.152
	\n\n			Порт игрового сервера: 3089 \n\n			Пар
	оль: wogames \n\n			TeamSpeak сервер: wogames.info:9987
	\n\n\n\n			Строка Запуска:\n		\n\n		\n\n-mod=@CUP_Terrains_Co
	re\;@CUP_Terrains_Maps\;@RHSGREF\;@RHSSAF\;@RHSUSAF\;@RHSAFRF\;@WOG_ACE\;@
	WOG_Mods\;@WOG_Islands\;@WOG3_Islands\;@task_force_radio\;\n\n		\n			 \n	
		\n\n		\n			Репозиторий (Arma3Synс):\n		\n\n		\n\nftp://193.19
	.118.182/Updater_WOG/ArmA3Sync/WOG_A3/.a3s/autoconfig\n\n		\n			 \n		\n	\
	n\n\n\n	 \n\n
DTSTART:20180706T180000Z
DTEND:20180707T205900Z
END:VEVENT
END:VCALENDAR
