BEGIN:VCALENDAR
VERSION:2.0
PRODID:-//IP.Board Calendar 4.3.6//EN
METHOD:PUBLISH
CALSCALE:GREGORIAN
X-WR-CALNAME:WOG
BEGIN:VTIMEZONE
TZID:Europe/London
TZURL:http://tzurl.org/zoneinfo/Europe/London
X-LIC-LOCATION:Europe/London
BEGIN:DAYLIGHT
TZOFFSETFROM:+0000
TZOFFSETTO:+0100
TZNAME:BST
DTSTART:20180325T020000Z
RRULE:FREQ=YEARLY;BYMONTH=3;BYDAY=-1SU
END:DAYLIGHT
BEGIN:STANDARD
TZOFFSETFROM:+0100
TZOFFSETTO:+0000
TZNAME:GMT
DTSTART:20181028T020000Z
RRULE:FREQ=YEARLY;BYMONTH=10;BYDAY=-1SU
END:STANDARD
END:VTIMEZONE
BEGIN:VEVENT
SUMMARY:Weekly Open Games 18.05.2018 - 19.05.2018
DTSTAMP:20180513T143522Z
SEQUENCE:0
UID:683-1-5734b46ed07498cf109a779f6d92c724@wogames.info
ORGANIZER;CN="JackReign":no-reply@wogames.info
DESCRIPTION:\n\n	Сторона 1:  KND GHOST RSG B
	E         |        Сторона 2:  FOX 5thPK A+ MOR
	\n\n\n\n	 \n\n\n\n	В пятницу 18.05.2018 игра
	ем:\n\n\n\n	1. Порыв
	истый ветер USMC — Бое
	вики [Остров — Мальден] Ст
	орона 1 в атаке\n\n\n\n	2.
	 Горячий прием US Arm
	y — ТА [Остров — Таки
	стан] Сторона 1 в обороне\n
	\n\n\n	3. По количеству игроков\n
	\n\n\n	Игровой администратор — [KND] JackRe
	ign\n\n\n\n	 \n\n\n\n	В субботу 19.05.2018 играем
	:\n\n\n\n	1. Вторжение U
	SMC — ВС РФ [Остров — Пода
	горск] Сторона 1 в обороне\n\
	n\n\n	2. Выбор lite US Army
	 — ВС РФ [Остров — Че
	рнорусь] Сторона 1 в атаке\n
	\n\n\n	3. По количеству игроков\
	n\n\n\n	Игровой администратор — [KND] F
	layeR\n\n\n\n	 \n\n\n\n	Командование:\n\n\n\n
		 \n\n\n\n	Внимание!
	 Миссии могут бы
	ть обновлены в
	 течение недел
	и! Следите за темами!\n
	\nТехническая информация для под
	ключения:\n\n\n\n	\n		Спойлер\n	\n\n	\n		\n
				IP игрового сервера: 195.2.253.152
	\n\n			Порт игрового сервера: 3089 \n\n			Пар
	оль: wogames \n\n			TeamSpeak сервер: wogames.info:9987
	\n\n\n\n			Строка Запуска:\n		\n\n		\n			-mod=@CUP_Terrains_C
	ore\;@CUP_Terrains_Maps\;@RHSGREF\;@RHSSAF\;@RHSUSAF\;@RHSAFRF\;@WOG_ACE\;
	@WOG_Mods\;@WOG_Islands\;@WOG3_Islands\;@task_force_radio\;\n		\n\n		\n			
	 \n		\n\n		\n			Репозиторий (Arma3Synс):\n		\n\n		\n			ftp://
	193.19.118.182/Updater_WOG/ArmA3Sync/WOG_A3/.a3s/autoconfig\n		\n	\n\n\n\n
		 \n\n
DTSTART:20180518T180000Z
DTEND:20180519T185900Z
END:VEVENT
END:VCALENDAR
