BEGIN:VCALENDAR
VERSION:2.0
PRODID:-//IP.Board Calendar 4.3.6//EN
METHOD:PUBLISH
CALSCALE:GREGORIAN
X-WR-CALNAME:WOG
BEGIN:VTIMEZONE
TZID:Europe/London
TZURL:http://tzurl.org/zoneinfo/Europe/London
X-LIC-LOCATION:Europe/London
BEGIN:DAYLIGHT
TZOFFSETFROM:+0000
TZOFFSETTO:+0100
TZNAME:BST
DTSTART:20180325T020000Z
RRULE:FREQ=YEARLY;BYMONTH=3;BYDAY=-1SU
END:DAYLIGHT
BEGIN:STANDARD
TZOFFSETFROM:+0100
TZOFFSETTO:+0000
TZNAME:GMT
DTSTART:20181028T020000Z
RRULE:FREQ=YEARLY;BYMONTH=10;BYDAY=-1SU
END:STANDARD
END:VTIMEZONE
BEGIN:VEVENT
SUMMARY:Weekly Open Games 04.05.2018 - 05.05.2018
DTSTAMP:20180502T144345Z
SEQUENCE:0
UID:678-1-5734b46ed07498cf109a779f6d92c724@wogames.info
ORGANIZER;CN="visu":no-reply@wogames.info
DESCRIPTION:\n\n	Сторона 1:  KND GHOST RSG 
	BE          |        Сторона 2:  SF FOX 5thPK
	 A+ MOR\n\n\n\n	В пятницу 04.05.2018 играем:\n\n\n\n	1.Hawk
	s Hike US Army + Bundeswehr — Iraq Army [Остров —
	 Lithium] Сторона 1 в обороне\n\n\n\n	2.European The
	ater p.1 US Army — ВС СССР [Остров —  Ch
	ernarus] Сторона 1 в атаке\n\n\n\n	
	3. По количеству игроков\n\n\n\n	
	Игровой администратор — [RSG]First\n\n\n\n	
	 \n\n\n\n	В субботу 05.05.2018 играем:\
	n\n\n\n	1.Заблокированный пор
	т USMC — ВС РФ [Остров — Podagor
	sk] Сторона 1 в обороне\n\n\
	n\n	2.Санте-Мария ЧВК — ЧВК [Ос
	тров — Malden] Сторона 1 в атаке\n\
	n\n\n	3. По количеству игроков\n
	\n\n\n	Игровой администратор — [FOX]On
	oda\n\n\n\n	 \n\n\n\n	Командование:\n\n\n\
	n	\n\n\n	Внимание! М
	иссии могут быть обновлены в 
	течение недели! Следите за темами!\n\n
DTSTART:20180504T180000Z
DTEND:20180505T185900Z
END:VEVENT
END:VCALENDAR
