BEGIN:VCALENDAR
VERSION:2.0
PRODID:-//IP.Board Calendar 4.3.6//EN
METHOD:PUBLISH
CALSCALE:GREGORIAN
X-WR-CALNAME:WOG
BEGIN:VTIMEZONE
TZID:Europe/London
TZURL:http://tzurl.org/zoneinfo/Europe/London
X-LIC-LOCATION:Europe/London
BEGIN:DAYLIGHT
TZOFFSETFROM:+0000
TZOFFSETTO:+0100
TZNAME:BST
DTSTART:20180325T020000Z
RRULE:FREQ=YEARLY;BYMONTH=3;BYDAY=-1SU
END:DAYLIGHT
BEGIN:STANDARD
TZOFFSETFROM:+0100
TZOFFSETTO:+0000
TZNAME:GMT
DTSTART:20181028T020000Z
RRULE:FREQ=YEARLY;BYMONTH=10;BYDAY=-1SU
END:STANDARD
END:VTIMEZONE
BEGIN:VEVENT
SUMMARY:Weekly Open Games 06.04.2018-07.04.2018
DTSTAMP:20180404T153036Z
SEQUENCE:0
UID:666-1-5734b46ed07498cf109a779f6d92c724@wogames.info
ORGANIZER;CN="RavingRobot":no-reply@wogames.info
DESCRIPTION:\n\n	Сторона 1:  KND GHOST RSG B
	E         |        Сторона 2:  SF FOX 5thPK A+ MOR
	\n\n\n\n	 \n\n\n\n	В пятницу 06.04.2018 игра
	ем:\n\n\n\n	1. Порывистый вете
	р US Army — Боевики [Остров — Mal
	den] Сторона 1 в атаке\n\n\n\n	2. Ин
	цидент US Army — ВС РФ [Остров — Che
	rnarus] Сторона 1 в обороне\n\n\n\n
		3. По количеству игроков\n\n\n\n
		Игровой администратор — [RSG]First\n\n\n\n
		 \n\n\n\n	В субботу 07.04.2018 играем:\n\n
	\n\n	1. Удар USMC — TA [Остров — Takistan
	] Сторона 1 в обороне\n\n\n\n
		2. Кратер ВВ МВД РФ — ЧДКЗ [Ос
	тров — Proving Grounds] Сторона 1 в 
	атаке\n\n\n\n	3. По количес
	тву игроков\n\n\n\n	Игровой администра
	тор — [FOX]visu\n\n\n\n	 \n\n\n\n	Командование:\n\n\n
	\n	\n\n\n	 \n\n\n\n	Внимани
	е! Миссии могут быт
	ь обновлены в те
	чение недели! С
	ледите за темами!\n\n\nТе
	хническая информация для подключен
	ия:\n\n\n\n	\n		Спойлер\n	\n\n	\n		\n			IP игрово
	го сервера: 195.2.253.152\n\n			Порт 
	игрового сервера: 3089 \n\n			Пароль: woga
	mes \n\n			TeamSpeak сервер: wogames.info:9987\n\n\n\
	n			Строка Запуска:\n		\n\n		\n\n-mod=@CUP_Terrains_Core\;@CU
	P_Terrains_Maps\;@RHSGREF\;@RHSSAF\;@RHSUSAF\;@RHSAFRF\;@WOG_ACE\;@WOG_Mod
	s\;@WOG3_Islands\;@task_force_radio\;\n\n		\n			 \n		\n\n		\n		
		Репозиторий (Arma3Synс):\n		\n\n		\n\nftp://193.19.118.182/Up
	dater_WOG/ArmA3Sync/WOG_A3/.a3s/autoconfig\n\n		\n			 \n		\n	\n\n\n\n	 \
	n\n\n\n	Внимание! Т.к. под
	проект WOG недавно пе
	решел на платформ
	у А3\, правила сервера WOG 
	еще не скорректирован
	ы под реалии А3.\n\n\
	n\n	В связи с этим просьба
	 ознакомиться и соблюдать 
	пп. 0.4.7 и 2.2-2.4 правил
	 подпроекта WOG
	3. Также зап
	рещено надеват
	ь вражескую форму (кроме бронежилетов и 
	головных уборов).\n\n
DTSTART:20180406T180000Z
DTEND:20180407T185900Z
END:VEVENT
END:VCALENDAR
