BEGIN:VCALENDAR
VERSION:2.0
PRODID:-//IP.Board Calendar 4.3.6//EN
METHOD:PUBLISH
CALSCALE:GREGORIAN
X-WR-CALNAME:WOG
BEGIN:VTIMEZONE
TZID:Europe/London
TZURL:http://tzurl.org/zoneinfo/Europe/London
X-LIC-LOCATION:Europe/London
BEGIN:DAYLIGHT
TZOFFSETFROM:+0000
TZOFFSETTO:+0100
TZNAME:BST
DTSTART:20180325T020000Z
RRULE:FREQ=YEARLY;BYMONTH=3;BYDAY=-1SU
END:DAYLIGHT
BEGIN:STANDARD
TZOFFSETFROM:+0100
TZOFFSETTO:+0000
TZNAME:GMT
DTSTART:20181028T020000Z
RRULE:FREQ=YEARLY;BYMONTH=10;BYDAY=-1SU
END:STANDARD
END:VTIMEZONE
BEGIN:VEVENT
SUMMARY:Weekly Open Games 30.03.2018-31.03.2018
DTSTAMP:20180328T161008Z
SEQUENCE:0
UID:663-1-5734b46ed07498cf109a779f6d92c724@wogames.info
ORGANIZER;CN="RavingRobot":no-reply@wogames.info
DESCRIPTION:\n\n	Сторона 1:  KND GHOST RSG B
	E         |        Сторона 2:  SF FOX 5thPK A+ MOR
	\n\n\n\n	 \n\n\n\n	В пятницу 30.03.2018 играем:\n
	\n\n\n	1. Выбор US Army — ВС РФ [Остро
	в — Chernarus] Сторона 1 в атаке\n\
	n\n\n	2. Фируз-Бахарв ISIS — ВС
	 РФ [Остров — Zargabad] Сторона
	 1 в обороне\n\n\n\n	3. По к
	оличеству игроков\n\n\n\n	Игровой а
	дминистратор — [RSG]Dgors\n\n\n\n	 \n\n\n\n	В
	 субботу 31.03.2018 играем:\n\n\
	n\n	1. Зеленые дьяволы USMC —
	 ВС РФ [Остров — Chernarus] Сто
	рона 1 в обороне\n\n\n\n	2
	. Заблокированный порт US
	MC — ВС РФ [Остров — Podagorsk] С
	торона 1 в атаке\n\n\n\n	3. 
	По количеству игроков\n\n\n\n	Иг
	ровой администратор — RavingRobot\n\n\n\
	n	 \n\n\n\n	Командование:\n\n\n\n	\n\n\n	
	 \n\n\n\n	Внимание! 
	Миссии могут быть
	 обновлены в теч
	ение недели! Сл
	едите за темами!\n\n\nТехн
	ическая информация для подключения:\
	n\n\n\n	\n		Спойлер\n	\n\n	\n		\n			IP игрового сер
	вера: 195.2.253.152\n\n			Порт игрового с
	ервера: 3089 \n\n			Пароль: wogames \n\n			TeamSpea
	k сервер: wogames.info:9987\n\n\n\n			Строка Запуска:\
	n		\n\n		\n\n-mod=@CUP_Terrains_Core\;@CUP_Terrains_Maps\;@RHSGREF\;@RHSSA
	F\;@RHSUSAF\;@RHSAFRF\;@WOG_ACE\;@WOG_Mods\;@WOG3_Islands\;@task_force_rad
	io\;\n\n		\n			 \n		\n\n		\n			Репозиторий (Arma3Synс):\n		\n
	\n		\n\nftp://193.19.118.182/Updater_WOG/ArmA3Sync/WOG_A3/.a3s/autoconfig\
	n\n		\n			 \n		\n	\n\n\n\n	 \n\n\n\n	Внимание!
	 Т.к. подпроект WOG нед
	авно перешел на п
	латформу А3\, правила
	 сервера WOG еще не скорре
	ктированы под реалии 
	А3.\n\n\n\n	В связи с этим п
	росьба ознакомиться и со
	блюдать пп. 0.4.7 и 2.2-2
	.4 правил подпро
	екта WOG3. Также
	 запрещено 
	надевать вражескую форму (
	кроме бронежилетов и головных уборов).\n\n
DTSTART:20180330T180000Z
DTEND:20180331T185900Z
END:VEVENT
END:VCALENDAR
