BEGIN:VCALENDAR
VERSION:2.0
PRODID:-//IP.Board Calendar 4.3.6//EN
METHOD:PUBLISH
CALSCALE:GREGORIAN
X-WR-CALNAME:WOG
BEGIN:VTIMEZONE
TZID:Europe/London
TZURL:http://tzurl.org/zoneinfo/Europe/London
X-LIC-LOCATION:Europe/London
BEGIN:DAYLIGHT
TZOFFSETFROM:+0000
TZOFFSETTO:+0100
TZNAME:BST
DTSTART:20180325T020000Z
RRULE:FREQ=YEARLY;BYMONTH=3;BYDAY=-1SU
END:DAYLIGHT
BEGIN:STANDARD
TZOFFSETFROM:+0100
TZOFFSETTO:+0000
TZNAME:GMT
DTSTART:20181028T020000Z
RRULE:FREQ=YEARLY;BYMONTH=10;BYDAY=-1SU
END:STANDARD
END:VTIMEZONE
BEGIN:VEVENT
SUMMARY:Weekly Open Games 09.03.2018-10.03.2018
DTSTAMP:20180307T134905Z
SEQUENCE:0
UID:652-1-5734b46ed07498cf109a779f6d92c724@wogames.info
ORGANIZER;CN="RavingRobot":no-reply@wogames.info
DESCRIPTION:\n\n	Внимание! Расст
	ановка на слоты начинается в
	 20:45 (мск). Старт на брифинг в 21:00
	 (мск)! Не опаздывайте!\n\n\n\n	 \n\n\n\n	Ст
	орона 1:  KND GHOST RSG BE         |        Сто
	рона 2:  SF FOX 5thPK A+ MOR\n\n\n\n	 \n\n\n\n	В пятни
	цу 09.03.2018 играем:\n\n\n\n	1. Sovie
	t Wrath ВДВ СССР — Талибан [Остр
	ов — Takistan] Сторона 1 в обороне\n\
	n\n\n	2. Инцидент US Army — ВС РФ [Ос
	тров — Chernarus] Сторона 1 в атаке\
	n\n\n\n	3. По количеству игроков\
	n\n\n\n	Игровой администратор — RavingRobot
	\n\n\n\n	 \n\n\n\n	В субботу 10.03.2018 играем:\n\n\n\n	1.
	 Green water lake PDF — ВС РФ [Остров — Pod
	agorsk] Сторона 1 в атаке\n\n\n\n	2.
	 Горячий приём TA — US Army [Остро
	в — Takistan] Сторона 1 в обороне\n\n
	\n\n	3. По количеству игроков\n\
	n\n\n	Игровой администратор — [RSG]Dgo
	rs\n\n\n\n	 \n\n\n\n	Командование:\n\n
	\n\n	\n\n\nТехническая информаци
	я для подключения:\n\n\n\n	\n		Спойле
	р\n	\n\n	\n		\n			IP игрового сервера: 195.2.253.
	152:3089 [запуск] \n\n			Порт игрового
	 сервера: 3089 \n\n			Пароль: wogames \n\n			TeamS
	peak сервер: wogames.info:9987\n\n\n\n			Строка Запуск
	а:\n		\n\n		\n\n-mod=@CUP_Terrains_Core\;@CUP_Terrains_Maps\;@RHSGREF\;@R
	HSSAF\;@RHSUSAF\;@RHSAFRF\;@WOG3_ACE\;@WOG3_Islands\;@task_force_radio\;@A
	CE_BETA\;\n\n		\n			 \n		\n\n		\n			Репозиторий (Arma3Synс):\
	n		\n\n		\n\nftp://193.19.118.182/Updater_WOG/ArmA3Sync/WOG_A3/.a3s/autoco
	nfig\n\n		\n			 \n		\n	\n\n\n\n	 \n\n\n\n	Внимание
	! Т.к. подпроект WOG не
	давно перешел на
	 платформу А3\, прав
	ила сервера WOG еще не ск
	орректированы под ре
	алии А3.\n\n\n\n	В связи с
	 этим просьба ознаком
	иться и соблюдать пп. 0.4.
	7 и 2.2-2.4 правил по
	дпроекта WOG3.
	 Также запр
	ещено надевать 
	вражескую форму (кроме бронежилетов и
	 головных уборов).\n\n
DTSTART:20180309T180000Z
DTEND:20180310T185900Z
END:VEVENT
END:VCALENDAR
