BEGIN:VCALENDAR
VERSION:2.0
PRODID:-//IP.Board Calendar 4.3.6//EN
METHOD:PUBLISH
CALSCALE:GREGORIAN
X-WR-CALNAME:WOG
BEGIN:VTIMEZONE
TZID:Europe/London
TZURL:http://tzurl.org/zoneinfo/Europe/London
X-LIC-LOCATION:Europe/London
BEGIN:DAYLIGHT
TZOFFSETFROM:+0000
TZOFFSETTO:+0100
TZNAME:BST
DTSTART:20180325T020000Z
RRULE:FREQ=YEARLY;BYMONTH=3;BYDAY=-1SU
END:DAYLIGHT
BEGIN:STANDARD
TZOFFSETFROM:+0100
TZOFFSETTO:+0000
TZNAME:GMT
DTSTART:20181028T020000Z
RRULE:FREQ=YEARLY;BYMONTH=10;BYDAY=-1SU
END:STANDARD
END:VTIMEZONE
BEGIN:VEVENT
SUMMARY:Weekly Open Games 02.03.2018-03.03.2018
DTSTAMP:20180228T084422Z
SEQUENCE:0
UID:649-1-5734b46ed07498cf109a779f6d92c724@wogames.info
ORGANIZER;CN="Dekfor":no-reply@wogames.info
DESCRIPTION:\n\n	Внимание! Расст
	ановка на слоты начинается в
	 20:45 (мск). Старт на брифинг в 21:00
	 (мск)! Не опаздывайте!\n\n\n\n	 \n\n\n\n	В
	 пятницу 02.03.2018 играем:\n\n\n\n	1. Silent night
	 US Army — SLA [Остров — Sahrani] Сто
	рона 1 в атаке\n\n\n\n	2. Заб
	локированный порт USMC— ВС Р
	Ф [Остров — Podagorsk] Сторона 
	1 в обороне\n\n\n\n	3. По к
	оличеству игроков\n\n\n\n	Игровой 
	администратор — [BE]Dekfor\n\n\n\n	 \n\n\n\
	n	В субботу 03.03.2018 играем:\n\n\n\n	1.
	 Выбор lite US Army — ВС РФ [Остров 
	— Chernarus] Сторона 1 в обороне\n\n\n\n	2. T
	res Valles SLA — FIA  [Остров — Sahrani] Стор
	она 1 в атаке\n\n\n\n	3. По 
	количеству игроков\n\n\n\n	Игр
	овой администратор — [RSG]First\n\n\n
	\n	Командование:\n\n\n\n	\n
	\n\n	Техническая информация для 
	подключения:\n\n\n\n	\n		Спойлер\n	\n\n	
	\n		\n			IP игрового сервера: 195.2.253.15
	2:3089 [запуск]\n\n			Порт игрового се
	рвера: 3089 \n\n			Пароль: wogames \n\n			TeamSpeak 
	сервер: wogames.info:9987\n		\n\n		\n			Строка Запуска
	:\n		\n\n		\n\n\n-mod=@CUP_Terrains_Core\;@CUP_Terrains_Maps\;@RHSGREF\;@R
	HSSAF\;@RHSUSAF\;@RHSAFRF\;@WOG3_ACE\;@WOG3_Islands\;@task_force_radio\;@A
	CE_BETA\;\n\n\n		\n			Репозиторий (Arma3Synс):\n		\n\n		\n\n\n
	ftp://193.19.118.182/Updater_WOG/ArmA3Sync/WOG_A3/.a3s/autoconfig\n\n\n		\
	n			 \n		\n	\n\n\n\n	Внимание! Т.
	к. подпроект WOG неда
	вно перешел на пл
	атформу А3\, правила с
	ервера WOG еще не скоррек
	тированы под реалии А
	3.\n\n\n\n	В связи с этим про
	сьба ознакомиться и соблюд
	ать пп. 0.4.7 и 2.2-2.4 пр
	авил подпроекта
	 WOG3. Также зап
	рещено надеват
	ь вражескую форму (
	кроме бронежилетов и головных убо
	ров).\n\n\n\n	Авторам Tres Valles и Viborlite (@Oc
	topus @Dgors) необ
	ходимо испр
	авить все 
	указанные 
	администрацией
	 недочеты до пятницы\, чтобы миссии могл
	и быть отыграны.\n\n
DTSTART:20180302T180000Z
DTEND:20180303T180000Z
END:VEVENT
END:VCALENDAR
