BEGIN:VCALENDAR
VERSION:2.0
PRODID:-//IP.Board Calendar 4.3.6//EN
METHOD:PUBLISH
CALSCALE:GREGORIAN
X-WR-CALNAME:WOG
BEGIN:VTIMEZONE
TZID:Europe/London
TZURL:http://tzurl.org/zoneinfo/Europe/London
X-LIC-LOCATION:Europe/London
BEGIN:DAYLIGHT
TZOFFSETFROM:+0000
TZOFFSETTO:+0100
TZNAME:BST
DTSTART:20180325T020000Z
RRULE:FREQ=YEARLY;BYMONTH=3;BYDAY=-1SU
END:DAYLIGHT
BEGIN:STANDARD
TZOFFSETFROM:+0100
TZOFFSETTO:+0000
TZNAME:GMT
DTSTART:20181028T020000Z
RRULE:FREQ=YEARLY;BYMONTH=10;BYDAY=-1SU
END:STANDARD
END:VTIMEZONE
BEGIN:VEVENT
SUMMARY:Weekly Open Games 16.02.2018-17.02.2018
DTSTAMP:20180214T193815Z
SEQUENCE:0
UID:643-1-5734b46ed07498cf109a779f6d92c724@wogames.info
ORGANIZER;CN="Dgors":no-reply@wogames.info
DESCRIPTION:\n\n	Внимание! Расс
	тановка на слоты начинает
	ся в 20-45.  Старт на Брифинг в 21-00 
	МСК! Не опаздывайте.\n\n\n\n	 \n\n\n\n	В пя
	тницу 16.02.2018 играем:\n\n\n\n	1. По 
	количеству игроков\n\n\n\n	2
	. По количеству игроков\n\n\
	n\n	3. По количеству игроков\n\n
	\n\n	Игровой администратор — [RSG]Dgors\n\
	n\n\n	 \n\n\n\n	В субботу 17.02.2018 играе
	м:\n\n\n\n	1. По количеству игроко
	в\n\n\n\n	2. По количеству игроков\
	n\n\n\n	3. По количеству игроков
	\n\n\n\n	Игровой администратор — [FOX]
	 Visu\n\n\n\n	 \n\n\n\n	Командование:
	\n\n\n\n	Командование ст
	ороной - по желан
	ию. (Списки формирую
	тся)\n\n\nТехническая информа
	ция для подключения:\n\n\n\n	\n		Спой
	лер\n	\n\n	\n		\n			IP игрового сервера: 195.2.
	253.152:3089 [запуск] \n\n			Порт игро
	вого сервера: 3089 \n\n			Пароль: wogames \n\n
				TeamSpeak сервер: wogames.info:9987\n\n\n\n			Строк
	а Запуска:\n		\n\n		\n\n-mod=@CUP_Terrains_Core\;@CUP_Terrains_Map
	s\;@RHSGREF\;@RHSSAF\;@RHSUSAF\;@RHSAFRF\;@WOG3_ACE\;@WOG3_Islands\;@task_
	force_radio\;@ACE_BETA\;\n\n		\n			Репозиторий (Arma3Synс):\n
	\n			 \n		\n\n		\n\nftp://193.19.118.182/Updater_WOG/ArmA3Sync/WOG_A3/.a3
	s/autoconfig\n\n		\n			 \n		\n	\n\n\n\n	 \n\n\n\n	Вни
	мание! Т.к. подпроек
	т WOG только-только пе
	решел на платформ
	у А3\, правила сервера WOG 
	еще не скорректирован
	ы под реалии А3.\n\n\
	n\n	В связи с этим просьба
	 ознакомиться и соблюдать 
	пп. 0.4.7 и 2.2-2.4 правил
	 подпроекта WOG
	3. Также зап
	рещено надеват
	ь вражескую форму (кроме бронежилетов и 
	головных уборов).\n\n
DTSTART:20180216T180000Z
DTEND:20180217T185900Z
END:VEVENT
END:VCALENDAR
