BEGIN:VCALENDAR
VERSION:2.0
PRODID:-//IP.Board Calendar 4.3.6//EN
METHOD:PUBLISH
CALSCALE:GREGORIAN
X-WR-CALNAME:WOG
BEGIN:VTIMEZONE
TZID:Europe/London
TZURL:http://tzurl.org/zoneinfo/Europe/London
X-LIC-LOCATION:Europe/London
BEGIN:DAYLIGHT
TZOFFSETFROM:+0000
TZOFFSETTO:+0100
TZNAME:BST
DTSTART:20180325T020000Z
RRULE:FREQ=YEARLY;BYMONTH=3;BYDAY=-1SU
END:DAYLIGHT
BEGIN:STANDARD
TZOFFSETFROM:+0100
TZOFFSETTO:+0000
TZNAME:GMT
DTSTART:20181028T020000Z
RRULE:FREQ=YEARLY;BYMONTH=10;BYDAY=-1SU
END:STANDARD
END:VTIMEZONE
BEGIN:VEVENT
SUMMARY:Weekly Open Games 09.02.2018-10.02.2018
DTSTAMP:20180206T201020Z
SEQUENCE:0
UID:640-1-5734b46ed07498cf109a779f6d92c724@wogames.info
ORGANIZER;CN="RavingRobot":no-reply@wogames.info
DESCRIPTION:\n\n	Внимание! С 09.02.2018
	 игры на сервере WOG проводятся т
	олько на А3!\n\n\n\n	 \n\n\n\n	В пятницу 09.02.2
	018 играем:\n\n\n\n	1. По количе
	ству игроков\n\n\n\n	2. По ко
	личеству игроков\n\n\n\n	
	3. По количеству игроков\n\n\n\n
		Игровой администратор — [GHOST]sup\n\n\n\
	n	 \n\n\n\n	В субботу 10.02.2018 играем
	:\n\n\n\n	1. По количеству игроков\
	n\n\n\n	2. По количеству игроков\n\n
	\n\n	3. По количеству игроков\n\
	n\n\n	Игровой администратор — [RB] Raving
	Robot\n\n\n\n	 \n\n\n\n	Командование:
	\n\n\n\n	Командование стороной - п
	о желанию.\n\n\n\n	 \n\n\n\n	Вни
	мание! Т.к. подпроек
	т WOG только-только пе
	решел на платформ
	у А3\, правила сервера WOG 
	еще не скорректирован
	ы под реалии А3.\n\n\
	n\n	В связи с этим просьба
	 ознакомиться и соблюдать 
	пп. 0.4.7 и 2.2-2.4 правил
	 подпроекта WOG
	3. Также зап
	рещено надеват
	ь вражескую форму (кроме бронежилетов и 
	головных уборов).\n\n
DTSTART:20180209T180000Z
DTEND:20180210T185900Z
END:VEVENT
END:VCALENDAR
