BEGIN:VCALENDAR
VERSION:2.0
PRODID:-//IP.Board Calendar 4.3.6//EN
METHOD:PUBLISH
CALSCALE:GREGORIAN
X-WR-CALNAME:WOG
BEGIN:VTIMEZONE
TZID:Europe/London
TZURL:http://tzurl.org/zoneinfo/Europe/London
X-LIC-LOCATION:Europe/London
BEGIN:DAYLIGHT
TZOFFSETFROM:+0000
TZOFFSETTO:+0100
TZNAME:BST
DTSTART:20180325T020000Z
RRULE:FREQ=YEARLY;BYMONTH=3;BYDAY=-1SU
END:DAYLIGHT
BEGIN:STANDARD
TZOFFSETFROM:+0100
TZOFFSETTO:+0000
TZNAME:GMT
DTSTART:20181028T020000Z
RRULE:FREQ=YEARLY;BYMONTH=10;BYDAY=-1SU
END:STANDARD
END:VTIMEZONE
BEGIN:VEVENT
SUMMARY:Weekly Open Games 02.02.2018-03.02.2018
DTSTAMP:20180130T182948Z
SEQUENCE:0
UID:637-1-5734b46ed07498cf109a779f6d92c724@wogames.info
ORGANIZER;CN="RavingRobot":no-reply@wogames.info
DESCRIPTION:\n\n	В пятницу 02.02.2018 на Arma 2 иг
	раем:\n\n\n\n	1. Холодное утро
	 (↓) ВС РФ — USMC [Остров — Chernarus
	] Сторона 1 в атаке\n\n\n\n	2. Snake Shie
	ld (↓) TM — ACR [Остров — Takistan
	] Сторона 1 в обороне\n\n\n\
	n	3. По количеству игроков\n\n\n\
	n	Игровой администратор — [BE]Dekfor\n\n\n\
	n	 \n\n\n\n	В субботу 03.02.2018 на Arma 3 и
	граем:\n\n\n\n	1. По количеств
	у игроков\n\n\n\n	2. По колич
	еству игроков\n\n\n\n	3. 
	По количеству игроков\n\n\n\n	И
	гровой администратор — [GHOST]sup\n\n\n
	\n	 \n\n\n\n	Командование:\n\n\n\n	\
	n\n\n	Командование стороной на А3
	 - по желанию.\n\n\n\n	 \n\n\
	n\n	Внимание! Не забудьте подготов
	иться к игре на А3!\n\n\n\n	 \n\n\n\n\n	 \n\n
DTSTART:20180202T180000Z
DTEND:20180203T185900Z
END:VEVENT
END:VCALENDAR
