BEGIN:VCALENDAR
VERSION:2.0
PRODID:-//IP.Board Calendar 4.3.6//EN
METHOD:PUBLISH
CALSCALE:GREGORIAN
X-WR-CALNAME:WOG
BEGIN:VTIMEZONE
TZID:Europe/London
TZURL:http://tzurl.org/zoneinfo/Europe/London
X-LIC-LOCATION:Europe/London
BEGIN:DAYLIGHT
TZOFFSETFROM:+0000
TZOFFSETTO:+0100
TZNAME:BST
DTSTART:20180325T020000Z
RRULE:FREQ=YEARLY;BYMONTH=3;BYDAY=-1SU
END:DAYLIGHT
BEGIN:STANDARD
TZOFFSETFROM:+0100
TZOFFSETTO:+0000
TZNAME:GMT
DTSTART:20181028T020000Z
RRULE:FREQ=YEARLY;BYMONTH=10;BYDAY=-1SU
END:STANDARD
END:VTIMEZONE
BEGIN:VEVENT
SUMMARY:Weekly Open Games 26.01.2018-27.01.2018
DTSTAMP:20180124T184121Z
SEQUENCE:0
UID:634-1-5734b46ed07498cf109a779f6d92c724@wogames.info
ORGANIZER;CN="RavingRobot":no-reply@wogames.info
DESCRIPTION:\n\n	В пятницу 26.01.2018 играе
	м:\n\n\n\n	1. Алтарь (↓) ОДКБ — US
	 Army [Остров — Chernarus] Сторона 1 в атаке\n\n\
	n\n	2. Hallo\, is it Pakistan? US Army — TL + PMC [
	Остров — Fata] Сторона 1 в обо
	роне\n\n\n\n	3. По количеству
	 игроков\n\n\n\n	Игровой администратор — [A
	NGEL]First\n\n\n\n	 \n\n\n\n	В субботу 27.01.2018 игр
	аем:\n\n\n\n	1. Вторжение (↓) US
	MC — ВС РФ [Остров — Podagorsk] Сторона
	 1 в обороне\n\n\n\n	2. Cold War  USMC — ВС
	 РФ [Остров — Thirsk Winter] Сторо
	на 1 в атаке\n\n\n\n	3. По 
	количеству игроков\n\n\n\n	Игрово
	й администратор — [FOX]onoda\n\n\n\n	 \n\n\n
	\n	Командование:\n\n\n\n	\n\n\n	 \
	n\n\n\n	Внимание! Ми
	ссии могут быть обновлены в тече
	ние недели\, следите за темой!\n\n
DTSTART:20180126T180000Z
DTEND:20180127T185900Z
END:VEVENT
END:VCALENDAR
