BEGIN:VCALENDAR
VERSION:2.0
PRODID:-//IP.Board Calendar 4.3.6//EN
METHOD:PUBLISH
CALSCALE:GREGORIAN
X-WR-CALNAME:WOG
BEGIN:VTIMEZONE
TZID:Europe/London
TZURL:http://tzurl.org/zoneinfo/Europe/London
X-LIC-LOCATION:Europe/London
BEGIN:DAYLIGHT
TZOFFSETFROM:+0000
TZOFFSETTO:+0100
TZNAME:BST
DTSTART:20140330T020000Z
RRULE:FREQ=YEARLY;BYMONTH=3;BYDAY=-1SU
END:DAYLIGHT
BEGIN:STANDARD
TZOFFSETFROM:+0100
TZOFFSETTO:+0000
TZNAME:GMT
DTSTART:20141026T020000Z
RRULE:FREQ=YEARLY;BYMONTH=10;BYDAY=-1SU
END:STANDARD
END:VTIMEZONE
BEGIN:VEVENT
SUMMARY:mWOG 12.11.14 - Будничные игры
DTSTAMP:20141105T121029Z
SEQUENCE:0
UID:63-1-5734b46ed07498cf109a779f6d92c724@wogames.info
ORGANIZER;CN="ToxaSM":no-reply@wogames.info
DESCRIPTION:\n\n\n\n\nСписок миссий: \n1. Mercalillo base 
	inf US Army — TA [Остров — Sahrani] сторона KND.T
	T в атаке за US Army\n2.
	 База «Хассадар» Ислам
	ские боевики — МСВ РФ [Остр
	ов — PR FATA] сторона KND.TT в обо
	роне за МСВ РФ\n3. Захват данных U
	SMC — RA [Остров — Beketov] сторона KND.TT за USMC\n
DTSTART;VALUE=DATE:20141112
END:VEVENT
END:VCALENDAR
