BEGIN:VCALENDAR
VERSION:2.0
PRODID:-//IP.Board Calendar 4.3.6//EN
METHOD:PUBLISH
CALSCALE:GREGORIAN
X-WR-CALNAME:WOG
BEGIN:VTIMEZONE
TZID:Europe/London
TZURL:http://tzurl.org/zoneinfo/Europe/London
X-LIC-LOCATION:Europe/London
BEGIN:DAYLIGHT
TZOFFSETFROM:+0000
TZOFFSETTO:+0100
TZNAME:BST
DTSTART:20180325T020000Z
RRULE:FREQ=YEARLY;BYMONTH=3;BYDAY=-1SU
END:DAYLIGHT
BEGIN:STANDARD
TZOFFSETFROM:+0100
TZOFFSETTO:+0000
TZNAME:GMT
DTSTART:20181028T020000Z
RRULE:FREQ=YEARLY;BYMONTH=10;BYDAY=-1SU
END:STANDARD
END:VTIMEZONE
BEGIN:VEVENT
SUMMARY:Weekly Open Games 19.01.2018-20.01.2018
DTSTAMP:20180114T193112Z
SEQUENCE:0
UID:629-1-5734b46ed07498cf109a779f6d92c724@wogames.info
ORGANIZER;CN="RavingRobot":no-reply@wogames.info
DESCRIPTION:\n\n	В пятницу 19.01.2018 играем:\n\n\n
	\n	1. Очаг Edited TA — TL [Остров — Resh
	maan] Сторона 1 в атаке\n\n\n\n	2
	. Пасюки ВС РФ — USMC [Остров 
	— Beketov] Сторона 1 в обороне\n\n
	\n\n	3. По количеству игроков\n\n
	\n\n	Игровой администратор — [RB] RavingRob
	ot\n\n\n\n	 \n\n\n\n	В субботу 20.01.2018 играем:\n\n\n\n	
	1. Sudden Strike US Army — TA [Остров — Tak
	istan] Сторона 1 в обороне\n\n\n\n	2. Operation \"N
	ight Hunting\"  USMC — TM [Остров — Fata] 
	Сторона 1 в атаке\n\n\n\n	3
	. По количеству игроков\n\n\n\n	
	Игровой администратор — [BE]Dekfor\n\n
	\n\n	 \n\n\n\n	Командование:\n\n\n\n	\n\n\n	 
	\n\n\n\n	Внимание! Миссия \"
	Очаг Edited\" будет пореза
	на в ближайшее врем
	я.\n\n\n\n	Остальные
	 миссии могут быть обновлен
	ы в течение недели\, следите за темой!\n\n
DTSTART:20180119T180000Z
DTEND:20180120T185900Z
END:VEVENT
END:VCALENDAR
