BEGIN:VCALENDAR
VERSION:2.0
PRODID:-//IP.Board Calendar 4.3.6//EN
METHOD:PUBLISH
CALSCALE:GREGORIAN
X-WR-CALNAME:WOG
BEGIN:VTIMEZONE
TZID:Europe/London
TZURL:http://tzurl.org/zoneinfo/Europe/London
X-LIC-LOCATION:Europe/London
BEGIN:DAYLIGHT
TZOFFSETFROM:+0000
TZOFFSETTO:+0100
TZNAME:BST
DTSTART:20180325T020000Z
RRULE:FREQ=YEARLY;BYMONTH=3;BYDAY=-1SU
END:DAYLIGHT
BEGIN:STANDARD
TZOFFSETFROM:+0100
TZOFFSETTO:+0000
TZNAME:GMT
DTSTART:20181028T020000Z
RRULE:FREQ=YEARLY;BYMONTH=10;BYDAY=-1SU
END:STANDARD
END:VTIMEZONE
BEGIN:VEVENT
SUMMARY:Weekly Open Games 12.01.2018-13.01.2018
DTSTAMP:20180108T201824Z
SEQUENCE:0
UID:628-1-5734b46ed07498cf109a779f6d92c724@wogames.info
ORGANIZER;CN="RavingRobot":no-reply@wogames.info
DESCRIPTION:\n\n	В пятницу 12.01.2018 играем:\
	n\n\n\n	1. Закат короля lite US Army —
	 TA [Остров — Reshmaan] Сторона 1
	 в атаке\n\n\n\n	2. Блицкриг US 
	Army — ВС РФ [Остров — Chernarus
	] Сторона 1 в обороне\n\n\n\
	n	3. По количеству игроков\n\n\n\
	n	Игровой администратор — [ANGEL]First\n\n\
	n\n	 \n\n\n\n	В субботу 13.01.2018 играем:
	\n\n\n\n	1. Березовый щит USMC —
	 ВС РФ [Остров — Podagorsk] Сторона 1 в об
	ороне\n\n\n\n	2. Last Step  Iraq Army — FSA [Ос
	тров — Fallujah int] Сторона 1 в а
	таке\n\n\n\n	3. По количеств
	у игроков\n\n\n\n	Игровой администратор
	 — [FOX]onoda\n\n\n\n	 \n\n\n\n	Командование:\n
	\n\n\n	\n\n\n	Внимание! М
	иссии могут быть обнов
	лены в течение недели\, следите
	 за темой!\n\n\n\n	 \n\n\n\n	На
	 миссии \"Березовый щит
	\" атака будет иметь в распор
	яжении одну LAV-25\, один C-130 и две л
	одки RHIB (Mk19)\, а оборона 
	- одну БМП-2 по результатам отыгры
	ша \"Точки сброса\".\n\n\n\n	Hard mode будет включ
	ен.\n\n
DTSTART:20180112T180000Z
DTEND:20180113T185900Z
END:VEVENT
END:VCALENDAR
