BEGIN:VCALENDAR
VERSION:2.0
PRODID:-//IP.Board Calendar 4.3.6//EN
METHOD:PUBLISH
CALSCALE:GREGORIAN
X-WR-CALNAME:WOG
BEGIN:VTIMEZONE
TZID:Europe/London
TZURL:http://tzurl.org/zoneinfo/Europe/London
X-LIC-LOCATION:Europe/London
BEGIN:DAYLIGHT
TZOFFSETFROM:+0000
TZOFFSETTO:+0100
TZNAME:BST
DTSTART:20170326T020000Z
RRULE:FREQ=YEARLY;BYMONTH=3;BYDAY=-1SU
END:DAYLIGHT
BEGIN:STANDARD
TZOFFSETFROM:+0100
TZOFFSETTO:+0000
TZNAME:GMT
DTSTART:20171029T020000Z
RRULE:FREQ=YEARLY;BYMONTH=10;BYDAY=-1SU
END:STANDARD
END:VTIMEZONE
BEGIN:VEVENT
SUMMARY:Weekly Open Games 29.12.2017-30.12.2017
DTSTAMP:20171226T092044Z
SEQUENCE:0
UID:621-1-5734b46ed07498cf109a779f6d92c724@wogames.info
ORGANIZER;CN="First":no-reply@wogames.info
DESCRIPTION:\n\n	В пятницу 29.12.2017 играе
	м:\n\n\n\n	1. Выбор ВС РФ — USMC
	 [Остров — Chernarus] Сторона 1 в обороне\n\
	n\n\n	2. Armored Fist (p.1) ТА — TL [Остро
	в — Clafghan] Сторона 1 в атаке\n\n\
	n\n	3. По количеству игроков\n\n\
	n\n	Игровой администратор — [ANGEL]First\n\
	n\n\n	 \n\n\n\n	В субботу 30.12.2017 игр
	аем:\n\n\n\n	1. Дубровка ЧСО — ЧД
	КЗ [Остров — Chernarus Winter] Стор
	она 1 в атаке\n\n\n\n	2. Взр
	ывной июнь FSA — ТА [Остров —
	 Sahrani] Сторона 1 в обороне\n\n\n
	\n	3. По количеству игроков\n\n\
	n\n	Игровой администратор — [FOX]onoda
	\n\n\n\n	 \n\n\n\n	Командование:\n\n\n\
	n	\n\n\n	Внимание! Ми
	ссии могут быть обновлен
	ы в течение недели\, следите за темой!\n\n\n\
	n	mwog_127_Dubrovka_11.Chernarus_winter.pbo\nwog_133_vybor_16.Chernarus.pb
	o\nmwog_122_Explosive_June_10.smd_sahrani_a2.pbo\nwog_118_armoredfist_p1_1
	4.clafghan.pbo\n\n
DTSTART:20171229T180000Z
DTEND:20171230T185900Z
END:VEVENT
END:VCALENDAR
