BEGIN:VCALENDAR
VERSION:2.0
PRODID:-//IP.Board Calendar 4.3.6//EN
METHOD:PUBLISH
CALSCALE:GREGORIAN
X-WR-CALNAME:WOG
BEGIN:VTIMEZONE
TZID:Europe/London
TZURL:http://tzurl.org/zoneinfo/Europe/London
X-LIC-LOCATION:Europe/London
BEGIN:DAYLIGHT
TZOFFSETFROM:+0000
TZOFFSETTO:+0100
TZNAME:BST
DTSTART:20140330T020000Z
RRULE:FREQ=YEARLY;BYMONTH=3;BYDAY=-1SU
END:DAYLIGHT
BEGIN:STANDARD
TZOFFSETFROM:+0100
TZOFFSETTO:+0000
TZNAME:GMT
DTSTART:20141026T020000Z
RRULE:FREQ=YEARLY;BYMONTH=10;BYDAY=-1SU
END:STANDARD
END:VTIMEZONE
BEGIN:VEVENT
SUMMARY:mWOG² 06.11.14 - Тестовая игра
DTSTAMP:20141104T144701Z
SEQUENCE:0
UID:62-1-5734b46ed07498cf109a779f6d92c724@wogames.info
ORGANIZER;CN="ToxaSM":no-reply@wogames.info
DESCRIPTION:\nВ Четверг\, 6-ого Нояб
	ря в 21:00 (МСК)\, будет провед
	ена небольшая тестовая игра по Iron Fro
	nt: Arma3 на сервере WOG Iron Front Server #1\nIP: 31.131.251.124
	\nPort: 2312\n\n\n\n\nКарта: DTAS Panovo 1 (Dynamic Take and Secur
	e)\nДля игры необходи
	мо:\n\nУстановлен
	ная последняя верси
	я IF под АрмА3. Инструкция по 
	установке\n\n\nПоследняя версия Task For
	ce Radio (v0.9.7)\n\n\nПоследняя версия Teamsp
	eak\n\n\n\n\nСбор в привычном (flashpoint.ru:9988
	 \, пароль: 2010) ТC‘е в 20:45\nIron Front Hard Mode\n
DTSTART;VALUE=DATE:20141106
END:VEVENT
END:VCALENDAR
