BEGIN:VCALENDAR
VERSION:2.0
PRODID:-//IP.Board Calendar 4.3.6//EN
METHOD:PUBLISH
CALSCALE:GREGORIAN
X-WR-CALNAME:WOG
BEGIN:VTIMEZONE
TZID:Europe/London
TZURL:http://tzurl.org/zoneinfo/Europe/London
X-LIC-LOCATION:Europe/London
BEGIN:DAYLIGHT
TZOFFSETFROM:+0000
TZOFFSETTO:+0100
TZNAME:BST
DTSTART:20170326T020000Z
RRULE:FREQ=YEARLY;BYMONTH=3;BYDAY=-1SU
END:DAYLIGHT
BEGIN:STANDARD
TZOFFSETFROM:+0100
TZOFFSETTO:+0000
TZNAME:GMT
DTSTART:20171029T020000Z
RRULE:FREQ=YEARLY;BYMONTH=10;BYDAY=-1SU
END:STANDARD
END:VTIMEZONE
BEGIN:VEVENT
SUMMARY:Weekly Open Games 22.12.2017-23.12.2017
DTSTAMP:20171218T165306Z
SEQUENCE:0
UID:615-1-5734b46ed07498cf109a779f6d92c724@wogames.info
ORGANIZER;CN="First":no-reply@wogames.info
DESCRIPTION:\n\n	В пятницу 22.12.2017 играем:\n\n\n\n	
	1. Phantom Pain ВС РФ — ЧДКЗ [Остров
	 — Beketov] Сторона 1 в атаке\n\n\n\n	2. L
	a lucha US Army — NAPA [Остров — Capraia] 
	Сторона 1 в обороне\n\n\n\n
		3. По количеству игроков\n\n\n\n
		Игровой администратор — [BE]Dekfor\n\n\n\n
		 \n\n\n\n	В субботу 23.12.2017 играем:\n\n\n\n	
	1. Incursion ТА — USMC [Остров — Reshmaa
	n Province] Сторона 1 в обороне\n\
	n\n\n	2. Гавань ЧСО — PMC [Остров 
	— Napf] Сторона 1 в атаке\n\n\n
	\n	3. По количеству игроков\n\n\
	n\n	Игровой администратор — [RB] Raving
	Robot\n\n\n\n	 \n\n\n\n	Командование:\n\n\n\n	\n\n\
	n	 \n\n\n\n	Внимание! 
	Миссии могут быть обн
	овлены в течение недели\, следите за те
	мой!\n\n	 \n\n\n\n	wog_133_incursion_13.reshmaan.pbo\nwog_140_phantom_
	pain_21.Beketov.pbo\n\n
DTSTART:20171222T180000Z
DTEND:20171223T185900Z
END:VEVENT
END:VCALENDAR
