BEGIN:VCALENDAR
VERSION:2.0
PRODID:-//IP.Board Calendar 4.3.6//EN
METHOD:PUBLISH
CALSCALE:GREGORIAN
X-WR-CALNAME:WOG
BEGIN:VTIMEZONE
TZID:Europe/London
TZURL:http://tzurl.org/zoneinfo/Europe/London
X-LIC-LOCATION:Europe/London
BEGIN:DAYLIGHT
TZOFFSETFROM:+0000
TZOFFSETTO:+0100
TZNAME:BST
DTSTART:20170326T020000Z
RRULE:FREQ=YEARLY;BYMONTH=3;BYDAY=-1SU
END:DAYLIGHT
BEGIN:STANDARD
TZOFFSETFROM:+0100
TZOFFSETTO:+0000
TZNAME:GMT
DTSTART:20171029T020000Z
RRULE:FREQ=YEARLY;BYMONTH=10;BYDAY=-1SU
END:STANDARD
END:VTIMEZONE
BEGIN:VEVENT
SUMMARY:Weekly Open Games 15.12.2017-16.12.2017
DTSTAMP:20171210T141005Z
SEQUENCE:0
UID:611-1-5734b46ed07498cf109a779f6d92c724@wogames.info
ORGANIZER;CN="Dekfor":no-reply@wogames.info
DESCRIPTION:\n\n	В пятницу 15.12.2017 играем:\n\n\
	n\n	1. Высота 390 NAPA — ВС РФ [О
	стров — Chernarus] Сторона 1 в обороне\n\n\n
	\n	2. mFOB EAST GUARD TA — US Army [Остров —
	 Takistan] Сторона 1 в атаке\n\n\n\n
		3. По количеству игроков\n\n\n\n
		Игровой администратор — TheFirstNoob\n\n\n
	\n	 \n\n\n\n	В субботу 16.12.2017 играем:\n\n\n\n	1.
	 Brother Lingor ВС РФ — NAPA+PMC [Остров
	 — Lingor] Сторона 1 в атаке\n\n\n\n	2. The Bri
	dge US Forces + UN — TM [Остров — Falluja
	h] Сторона 1 в обороне\n\n\n\
	n	3. По количеству игроков\n\n\n
	\n	Игровой администратор — [FOX]onoda\
	n\n\n\n	 \n\n\n\n	Командование:\n\n\n\n	\n\n\n
		 \n\n\n\n	Внимание! 
	Миссии могут быть обн
	овлены в течение недели\, 
	следите за темой!\n\n\n\n	Миссии 
	Высота 390 и Brother Lingor будут порезаны в б
	лижайшее время.\n\n
DTSTART:20171215T180000Z
DTEND:20171216T180000Z
END:VEVENT
END:VCALENDAR
