BEGIN:VCALENDAR
VERSION:2.0
PRODID:-//IP.Board Calendar 4.3.6//EN
METHOD:PUBLISH
CALSCALE:GREGORIAN
X-WR-CALNAME:WOG
BEGIN:VTIMEZONE
TZID:Europe/London
TZURL:http://tzurl.org/zoneinfo/Europe/London
X-LIC-LOCATION:Europe/London
BEGIN:DAYLIGHT
TZOFFSETFROM:+0000
TZOFFSETTO:+0100
TZNAME:BST
DTSTART:20170326T020000Z
RRULE:FREQ=YEARLY;BYMONTH=3;BYDAY=-1SU
END:DAYLIGHT
BEGIN:STANDARD
TZOFFSETFROM:+0100
TZOFFSETTO:+0000
TZNAME:GMT
DTSTART:20171029T020000Z
RRULE:FREQ=YEARLY;BYMONTH=10;BYDAY=-1SU
END:STANDARD
END:VTIMEZONE
BEGIN:VEVENT
SUMMARY:Weekly Open Games 08.12.2017-09.12.2017
DTSTAMP:20171205T210659Z
SEQUENCE:0
UID:609-1-5734b46ed07498cf109a779f6d92c724@wogames.info
ORGANIZER;CN="RavingRobot":no-reply@wogames.info
DESCRIPTION:\n\n	В пятницу 08.12.2017 играем
	:\n\n\n\n	1. База Хассадар TL + 
	KSK — ВС РФ [Остров — Fata] 
	Сторона 1 в атаке\n\n\n\n	2
	. Кровные узы ВС РФ — НАП
	А [Остров — Chernarus] Сторона
	 1 в обороне\n\n\n\n	3. По 
	количеству игроков\n\n\n\n	Игрово
	й администратор — [BE]Dekfor\n\n\n\n	 \n\n
	\n\n	В субботу 09.12.2017 играем:\n\n\n\n	1. Endur
	ing Freedom ВС РФ — US Army + USMC [Ост
	ров — Celle] Сторона 1 в обороне\n\n\n\n	2.  
	Siege SWAT + National Guard — PMC [Остров —
	 Emita] Сторона 1 в атаке\n\n\n\n
		3. По количеству игроков\n\n\n\
	n	Игровой администратор — [RB]RavingRo
	bot\n\n\n\n	 \n\n\n\n	Командование:\n\n\n\n	\n\n\
	n	 \n\n\n\n	Внимание! 
	Миссии могут быть обновлены 
	в течение недели\, следите за темой!\n\n
DTSTART:20171208T180000Z
DTEND:20171209T185900Z
END:VEVENT
END:VCALENDAR
