BEGIN:VCALENDAR
VERSION:2.0
PRODID:-//IP.Board Calendar 4.3.6//EN
METHOD:PUBLISH
CALSCALE:GREGORIAN
X-WR-CALNAME:WOG
BEGIN:VTIMEZONE
TZID:Europe/London
TZURL:http://tzurl.org/zoneinfo/Europe/London
X-LIC-LOCATION:Europe/London
BEGIN:DAYLIGHT
TZOFFSETFROM:+0000
TZOFFSETTO:+0100
TZNAME:BST
DTSTART:20170326T020000Z
RRULE:FREQ=YEARLY;BYMONTH=3;BYDAY=-1SU
END:DAYLIGHT
BEGIN:STANDARD
TZOFFSETFROM:+0100
TZOFFSETTO:+0000
TZNAME:GMT
DTSTART:20171029T020000Z
RRULE:FREQ=YEARLY;BYMONTH=10;BYDAY=-1SU
END:STANDARD
END:VTIMEZONE
BEGIN:VEVENT
SUMMARY:Weekly Open Games 1.12.2017-2.12.2017
DTSTAMP:20171127T222010Z
SEQUENCE:0
UID:607-1-5734b46ed07498cf109a779f6d92c724@wogames.info
ORGANIZER;CN="Dekfor":no-reply@wogames.info
DESCRIPTION:\n\n	В пятницу 1.12.2017 играем
	:\n\n\n\n	1. Места тут тихие US Rangers
	 — ВС РФ [Остров — Schwemlitz] Сторона 1 в
	 обороне\n\n\n\n	2. Mercalillo base US Army — TA
	 [Остров — Sahrani] Сторона 1 в 
	атаке\n\n\n\n	3. По количест
	ву игроков\n\n\n\n	Игровой администратор 
	— [BE]Dekfor\n\n\n\n	 \n\n\n\n	В субботу 2.12.2017 и
	граем:\n\n\n\n	1. Возврат П
	озиций Талибы — ССА [Остров —
	  Takistan] Cторона 1 в атаке\n\n\n\
	n	2. Холод  ВС РФ — US Army [Остр
	ов — Podagorsk] Сторона 1 в обороне
	\n\n\n\n	3. По количеству игроков
	\n\n\n\n	Игровой администратор — [FOX]o
	noda\n\n\n\n	 \n\n\n\n	Командование:\n\n\n
	\n	\n\n\n	Внимание! М
	иссии могут быть обно
	влены в течение недели\, следите з
	а темой!\n\n\n\n	Миссия Mercalil
	lo base будет порезана в ближайшее время.\n\
	n\n\n	 \n\n
DTSTART:20171201T180000Z
DTEND:20171202T180000Z
END:VEVENT
END:VCALENDAR
