BEGIN:VCALENDAR
VERSION:2.0
PRODID:-//IP.Board Calendar 4.3.6//EN
METHOD:PUBLISH
CALSCALE:GREGORIAN
X-WR-CALNAME:WOG
BEGIN:VTIMEZONE
TZID:Europe/London
TZURL:http://tzurl.org/zoneinfo/Europe/London
X-LIC-LOCATION:Europe/London
BEGIN:DAYLIGHT
TZOFFSETFROM:+0000
TZOFFSETTO:+0100
TZNAME:BST
DTSTART:20170326T020000Z
RRULE:FREQ=YEARLY;BYMONTH=3;BYDAY=-1SU
END:DAYLIGHT
BEGIN:STANDARD
TZOFFSETFROM:+0100
TZOFFSETTO:+0000
TZNAME:GMT
DTSTART:20171029T020000Z
RRULE:FREQ=YEARLY;BYMONTH=10;BYDAY=-1SU
END:STANDARD
END:VTIMEZONE
BEGIN:VEVENT
SUMMARY:Weekly Open Games 24.11.2017-25.11.2017
DTSTAMP:20171119T194913Z
SEQUENCE:0
UID:602-1-5734b46ed07498cf109a779f6d92c724@wogames.info
ORGANIZER;CN="RavingRobot":no-reply@wogames.info
DESCRIPTION:\n\n	В пятницу 24.11.2017 играе
	м:\n\n\n\n	1. Лопатино ВС РФ — ЧСО + US 
	SF [Остров — Chernarus Winter] Сторона
	 1 в атаке\n\n\n\n	2. По следу ACR — Iraq
	 Army [Остров — Faysh Khabur] Сторона
	 1 в обороне\n\n\n\n	3. По к
	оличеству игроков\n\n\n\n	Игровой а
	дминистратор — [RB] RavingRobot\n\n\n\n	 \n\n\n
	\n	В субботу 25.11.2017 играем:\n
	\n\n\n	1. Система ПРО класси
	к ВС РФ — US Army [Остров — Cell
	e] Сторона 1 в обороне\n\n\n\n	2
	.  За ВДВ! ВДВ РФ — USMC [Остров 
	— Sahrani] Сторона 1 в атаке\n\n\n
	\n	3. По количеству игроков\n\n\
	n\n	Игровой администратор — [WFA]First
	\n\n\n\n	 \n\n\n\n	Командование:\n\n\n\n	\n\nwog_134_sistema_
	pro_classic_11.mbg_celle2.pbo
DTSTART:20171124T180000Z
DTEND:20171125T185900Z
END:VEVENT
END:VCALENDAR
