BEGIN:VCALENDAR
VERSION:2.0
PRODID:-//IP.Board Calendar 4.3.6//EN
METHOD:PUBLISH
CALSCALE:GREGORIAN
X-WR-CALNAME:WOG
BEGIN:VTIMEZONE
TZID:Europe/London
TZURL:http://tzurl.org/zoneinfo/Europe/London
X-LIC-LOCATION:Europe/London
BEGIN:DAYLIGHT
TZOFFSETFROM:+0000
TZOFFSETTO:+0100
TZNAME:BST
DTSTART:20170326T020000Z
RRULE:FREQ=YEARLY;BYMONTH=3;BYDAY=-1SU
END:DAYLIGHT
BEGIN:STANDARD
TZOFFSETFROM:+0100
TZOFFSETTO:+0000
TZNAME:GMT
DTSTART:20171029T020000Z
RRULE:FREQ=YEARLY;BYMONTH=10;BYDAY=-1SU
END:STANDARD
END:VTIMEZONE
BEGIN:VEVENT
SUMMARY:Weekly Open Games 17.11.2017-18.11.2017
DTSTAMP:20171112T170932Z
SEQUENCE:0
UID:598-1-5734b46ed07498cf109a779f6d92c724@wogames.info
ORGANIZER;CN="RavingRobot":no-reply@wogames.info
DESCRIPTION:\n\n	В пятницу 17.11.2017 играем:\n\n\n\n	1.
	 Pirate Bay USMC — NAPA [Остров — Sahrani] С
	торона 1 в атаке\n\n\n\n	2. Red Harv
	est (↓) ЧДКЗ — ЧСО [Остров — Che
	rnarus] Сторона 1 в обороне\n\n\n\
	n	3. По количеству игроков\n\n\n
	\n	Игровой администратор — [BE]Dekfor\n\n\
	n\n	 \n\n\n\n	В субботу 18.11.2017 играем:\
	n\n\n\n	1. Случай ВС РФ — US Arm
	y [Остров — Chernarus] Сторона
	 1 в обороне\n\n\n\n	2.  Горный хр
	ебет ВС РФ — Guerillas [Остров — To
	raBora] Сторона 1 в атаке\n\n\n\n
		3. По количеству игроков\n\n\n\
	n	Игровой администратор — [FOX]onoda\n
	\n\n\n	 \n\n\n\n	Командование:\n\n\n\n	\n
DTSTART:20171117T180000Z
DTEND:20171118T185900Z
END:VEVENT
END:VCALENDAR
