BEGIN:VCALENDAR
VERSION:2.0
PRODID:-//IP.Board Calendar 4.3.6//EN
METHOD:PUBLISH
CALSCALE:GREGORIAN
X-WR-CALNAME:WOG
BEGIN:VTIMEZONE
TZID:Europe/London
TZURL:http://tzurl.org/zoneinfo/Europe/London
X-LIC-LOCATION:Europe/London
BEGIN:DAYLIGHT
TZOFFSETFROM:+0000
TZOFFSETTO:+0100
TZNAME:BST
DTSTART:20170326T020000Z
RRULE:FREQ=YEARLY;BYMONTH=3;BYDAY=-1SU
END:DAYLIGHT
BEGIN:STANDARD
TZOFFSETFROM:+0100
TZOFFSETTO:+0000
TZNAME:GMT
DTSTART:20171029T020000Z
RRULE:FREQ=YEARLY;BYMONTH=10;BYDAY=-1SU
END:STANDARD
END:VTIMEZONE
BEGIN:VEVENT
SUMMARY:Weekly Open Games 10.11.2017-11.11.2017
DTSTAMP:20171107T105759Z
SEQUENCE:0
UID:597-1-5734b46ed07498cf109a779f6d92c724@wogames.info
ORGANIZER;CN="visu":no-reply@wogames.info
DESCRIPTION:\n\n	Сторона 1:  KND  RB  GHOST  FOX  5t
	hPK  MOR  BB         |        Сторона 2:  SF  
	RSG  A+  BE  FMF  WFA  LG\n\n\n\n	В пятницу 10.11.2017
	 играем:\n\n\n\n	1. Spearhead  US Army — 
	ВС РФ [Остров — Beketov] Сто
	рона 1 в обороне\n\n\n\n	2. Промышленна
	я зона BAF — Takistani Militia [Остров —  
	Fallujah] Сторона 1 в атаке\n\n\n\n	
	3. По количеству игроков\n\n\n\n	
	Игровой администратор — [RB]RavingRobot\n\n
	\n\n	 \n\n\n\n	В субботу 11.11.2017 играе
	м:\n\n\n\n	1. Мёртвые не го
	ворят  ЧСО — ВС РФ [Остров —
	 Chernarus] Сторона 1 в атаке\n\n\n\n	2
	.Перевал Сары-санг(*) US Army 
	— ВС РФ [Остров — Takistan] Ст
	орона 1 в обороне\n\n\n\n	3.
	 По количеству игроков\n\n\n\n	И
	гровой администратор — [KND]JackReign\n
	\n\n\n	 \n\n\n\n	Командование:\n\n\n\n	\
	n\n\n	Миссия \"Перевал Сары
	-санг\" будет расширена в течение недели!\
	n\n
DTSTART:20171110T160000Z
DTEND:20171111T185900Z
END:VEVENT
END:VCALENDAR
