BEGIN:VCALENDAR
VERSION:2.0
PRODID:-//IP.Board Calendar 4.3.6//EN
METHOD:PUBLISH
CALSCALE:GREGORIAN
X-WR-CALNAME:WOG
BEGIN:VTIMEZONE
TZID:Europe/London
TZURL:http://tzurl.org/zoneinfo/Europe/London
X-LIC-LOCATION:Europe/London
BEGIN:DAYLIGHT
TZOFFSETFROM:+0000
TZOFFSETTO:+0100
TZNAME:BST
DTSTART:20170326T020000Z
RRULE:FREQ=YEARLY;BYMONTH=3;BYDAY=-1SU
END:DAYLIGHT
BEGIN:STANDARD
TZOFFSETFROM:+0100
TZOFFSETTO:+0000
TZNAME:GMT
DTSTART:20171029T020000Z
RRULE:FREQ=YEARLY;BYMONTH=10;BYDAY=-1SU
END:STANDARD
END:VTIMEZONE
BEGIN:VEVENT
SUMMARY:Weekly Open Games 27.10.2017-28.10.2017
DTSTAMP:20171024T162529Z
SEQUENCE:0
UID:590-1-5734b46ed07498cf109a779f6d92c724@wogames.info
ORGANIZER;CN="RavingRobot":no-reply@wogames.info
DESCRIPTION:\n\n	Сторона 1:  KND  RB  GHOST  FOX  5th
	PK  MOR  BB         |        Сторона 2:  SF  RS
	G  A+  BE  FMF  WFA  LG\n\n\n\n	 \n\n\n\n	В пятницу 27
	.10.2017 играем:\n\n\n\n	1. Восход ОДКБ
	 — US Army [Остров — Takistan] Сторона 1 в ата
	ке\n\n\n\n	2. Blood and Steel - Remastered ВС РФ —
	 ЧСО [Остров — Chernarus] Стор
	она 1 в обороне\n\n\n\n	3. П
	о количеству игроков\n\n\n\n	Игро
	вой администратор — [KND]JackReign\n\n\n\n	 \n
	\n\n\n	В субботу 28.10.2017 играем:\n\n\n\n	1
	. Shamali TA — TL [Остров — Takistan] Сто
	рона 1 в обороне\n\n\n\n	2.  La lucha US Ar
	my — NAPA [Остров — Capraia] Сто
	рона 1 в атаке\n\n\n\n	3. П
	о количеству игроков\n\n\n\n	Игро
	вой администратор — [RB] RavingRobot\n\n\n
	\n	 \n\n\n\n	Командование:\n\n\n\n	\n
DTSTART:20171027T180000Z
DTEND:20171028T185900Z
END:VEVENT
END:VCALENDAR
