BEGIN:VCALENDAR
VERSION:2.0
PRODID:-//IP.Board Calendar 4.3.6//EN
METHOD:PUBLISH
CALSCALE:GREGORIAN
X-WR-CALNAME:WOG
BEGIN:VTIMEZONE
TZID:Europe/London
TZURL:http://tzurl.org/zoneinfo/Europe/London
X-LIC-LOCATION:Europe/London
BEGIN:DAYLIGHT
TZOFFSETFROM:+0000
TZOFFSETTO:+0100
TZNAME:BST
DTSTART:20170326T020000Z
RRULE:FREQ=YEARLY;BYMONTH=3;BYDAY=-1SU
END:DAYLIGHT
BEGIN:STANDARD
TZOFFSETFROM:+0100
TZOFFSETTO:+0000
TZNAME:GMT
DTSTART:20171029T020000Z
RRULE:FREQ=YEARLY;BYMONTH=10;BYDAY=-1SU
END:STANDARD
END:VTIMEZONE
BEGIN:VEVENT
SUMMARY:Weekly Open Games 20.10.2017-21.10.2017
DTSTAMP:20171016T142003Z
SEQUENCE:0
UID:587-1-5734b46ed07498cf109a779f6d92c724@wogames.info
ORGANIZER;CN="JackReign":no-reply@wogames.info
DESCRIPTION:\n\n	Сторона 1:  KND MOR FOX 5thPK BB
	 RB GHOST         |        Сторона 2:  A+ BE RS
	G LG FMF WFA SF\n\n\n\n	В пятницу 20.10.2017 игра
	ем:\n1. Spearhead ВС РФ — U.S.Army [Ост
	ров — Beketov] Сторона 1 в атак
	е\n\n	2. В Заргабаде TA — TL [Ост
	ров — Zagrabad] Сторона 1 в
	 обороне\n\n	3. По количес
	тву игроков\nИгровой Администрат
	ор — [FOX] Visu\n\nВ субботу 21.10.2017 играем:\n1. 
	Rising Arrows (↓) NATO —  TL [Остров — Ta
	kistan] Сторона 1 в обороне\n\n	2. Power Ran
	gers USAR — NAPA [Остров — Podagorsk]
	 Сторона 1 в атаке\
	n\n	3. По количеству игроков
	\nИгровой Администратор — [FOX] onoda\n\
	nКомандование:\n\n\n\n	\n\n\n	C 16.
	10.2017 действует осен
	няя ротация. Соста
	в сторон в шапке 
	темы.\n\n	Внимани
	е! Миссии могут быть обн
	овлены в течение недели\, следите за тем
	ой!\n\n
DTSTART:20171020T180000Z
DTEND:20171021T205900Z
END:VEVENT
END:VCALENDAR
