BEGIN:VCALENDAR
VERSION:2.0
PRODID:-//IP.Board Calendar 4.3.6//EN
METHOD:PUBLISH
CALSCALE:GREGORIAN
X-WR-CALNAME:WOG
BEGIN:VTIMEZONE
TZID:Europe/London
TZURL:http://tzurl.org/zoneinfo/Europe/London
X-LIC-LOCATION:Europe/London
BEGIN:DAYLIGHT
TZOFFSETFROM:+0000
TZOFFSETTO:+0100
TZNAME:BST
DTSTART:20170326T020000Z
RRULE:FREQ=YEARLY;BYMONTH=3;BYDAY=-1SU
END:DAYLIGHT
BEGIN:STANDARD
TZOFFSETFROM:+0100
TZOFFSETTO:+0000
TZNAME:GMT
DTSTART:20171029T020000Z
RRULE:FREQ=YEARLY;BYMONTH=10;BYDAY=-1SU
END:STANDARD
END:VTIMEZONE
BEGIN:VEVENT
SUMMARY:Weekly Open Games 13.10.2017-14.10.2017
DTSTAMP:20171009T165356Z
SEQUENCE:0
UID:584-1-5734b46ed07498cf109a779f6d92c724@wogames.info
ORGANIZER;CN="RavingRobot":no-reply@wogames.info
DESCRIPTION:\n\n	В пятницу 13.10.2017 играем:\n\n\n\n	1. 
	The World Eater USMC — PMC [Остров — Lingor] 
	Сторона 1 в атаке\n\n\n\n	2. Rasman inf US A
	rmy — TA [Остров — Takistan] Стор
	она 1 в обороне\n\n\n\n	3. П
	о количеству игроков\n\n\n\n	Игров
	ой администратор — [RB] RavingRobot\n\n\n\n	 \n\
	n\n\n	В субботу 14.10.2017 играем:\n\
	n\n\n	1. Еда и патроны NAPA — ЧДКЗ 
	[Остров — Chernarus Winter] Сторона 1 в 
	обороне\n\n\n\n	2. Игра BAF — US Army [
	Остров — WOG Island 2] Сторона 1 
	в атаке\n\n\n\n	3. По коли
	честву игроков\n\n\n\n	Игровой админи
	стратор — [KND]JackReign\n\n\n\n	 \n\n\n\n	Командо
	вание:\n\n\n\n	\n\n\n	 \n\n\n\n	В
	нимание! Миссии
	 могут быть обновлены в течение недели\,
	 следите за темой!\n\n
DTSTART:20171013T180000Z
DTEND:20171014T185900Z
END:VEVENT
END:VCALENDAR
