BEGIN:VCALENDAR
VERSION:2.0
PRODID:-//IP.Board Calendar 4.3.6//EN
METHOD:PUBLISH
CALSCALE:GREGORIAN
X-WR-CALNAME:WOG
BEGIN:VTIMEZONE
TZID:Europe/London
TZURL:http://tzurl.org/zoneinfo/Europe/London
X-LIC-LOCATION:Europe/London
BEGIN:DAYLIGHT
TZOFFSETFROM:+0000
TZOFFSETTO:+0100
TZNAME:BST
DTSTART:20170326T020000Z
RRULE:FREQ=YEARLY;BYMONTH=3;BYDAY=-1SU
END:DAYLIGHT
BEGIN:STANDARD
TZOFFSETFROM:+0100
TZOFFSETTO:+0000
TZNAME:GMT
DTSTART:20171029T020000Z
RRULE:FREQ=YEARLY;BYMONTH=10;BYDAY=-1SU
END:STANDARD
END:VTIMEZONE
BEGIN:VEVENT
SUMMARY:Weekly Open Games 06.10.2017-07.10.2017
DTSTAMP:20171004T011730Z
SEQUENCE:0
UID:581-1-5734b46ed07498cf109a779f6d92c724@wogames.info
ORGANIZER;CN="visu":no-reply@wogames.info
DESCRIPTION:\n\n	Сторона 1:  KND  FMF  FOX  WFA  
	RB  BE  A+         |        Сторона 2:  5thPK 
	 GHOST  RSG  LG  MOR  BB  SF\n\n\n\n	В пятницу 06.10.2
	017 играем:\n\n\n\n	1. Haba-Haba  BAF — Takistani Mil
	ita [Остров — Takistan] Сторона 1 в атаке\n
	\n\n\n	2. Blister ВС РФ — ACR [Остров — Na
	pf] Сторона 1 в обороне\n\n\n\n
		3. По количеству игроков\n\n\n\n
		Игровой администратор — [FOX]Visu\n\n\n\n	
	 \n\n\n\n	В субботу 07.10.2017 играем:\n\n\n\n	1. Summert
	ime Sadness (v1.2) US Army — Takistan Army [Остров 
	— Faysh Khabur] Сторона 1 в обороне\n\n\n\n	
	2. Forgotten Land ВС РФ — НАПА [Остров —  
	Caribou Frontier] Сторона 1 в атаке\n\n\n
	\n	3. По количеству игроков\n\n\
	n\n	Игровой администратор — [FOX]Onoda
	\n\n\n\n	 \n\n\n\n	Командование:\n\n\n\
	n	\n\n\n	Внимание! 
	Другие мис
	сии так же могут быть 
	изменены в течение недели при необходи
	мости.\n\n
DTSTART:20171006T160000Z
DTEND:20171007T185900Z
END:VEVENT
END:VCALENDAR
