BEGIN:VCALENDAR
VERSION:2.0
PRODID:-//IP.Board Calendar 4.3.6//EN
METHOD:PUBLISH
CALSCALE:GREGORIAN
X-WR-CALNAME:WOG
BEGIN:VTIMEZONE
TZID:Europe/London
TZURL:http://tzurl.org/zoneinfo/Europe/London
X-LIC-LOCATION:Europe/London
BEGIN:DAYLIGHT
TZOFFSETFROM:+0000
TZOFFSETTO:+0100
TZNAME:BST
DTSTART:20130331T020000Z
RRULE:FREQ=YEARLY;BYMONTH=3;BYDAY=-1SU
END:DAYLIGHT
BEGIN:STANDARD
TZOFFSETFROM:+0100
TZOFFSETTO:+0000
TZNAME:GMT
DTSTART:20131027T020000Z
RRULE:FREQ=YEARLY;BYMONTH=10;BYDAY=-1SU
END:STANDARD
END:VTIMEZONE
BEGIN:VEVENT
SUMMARY:mWOG 29.10.14 - Будничные игры
DTSTAMP:20141028T065206Z
SEQUENCE:0
UID:58-1-5734b46ed07498cf109a779f6d92c724@wogames.info
ORGANIZER;CN="ToxaSM":no-reply@wogames.info
DESCRIPTION:\n\n\n\n\nСписок миссий: \n1. За 
	ВДВ RA — USMC [Остров — Sahrani] сторо
	на KND.TT в атаке за RA\
	n2. Особенности наци
	ональной рыбалки ЧДКЗ — ЧВК [
	Остров — Beketov] сторона KND
	.TT за ЧВК\n3. Репортаж Та
	либан — ТА [Остров — Заргабад] стор
	она KND.TT в атаке за Талибан\n
DTSTART;VALUE=DATE:20131029
END:VEVENT
END:VCALENDAR
