BEGIN:VCALENDAR
VERSION:2.0
PRODID:-//IP.Board Calendar 4.3.6//EN
METHOD:PUBLISH
CALSCALE:GREGORIAN
X-WR-CALNAME:WOG
BEGIN:VTIMEZONE
TZID:Europe/London
TZURL:http://tzurl.org/zoneinfo/Europe/London
X-LIC-LOCATION:Europe/London
BEGIN:DAYLIGHT
TZOFFSETFROM:+0000
TZOFFSETTO:+0100
TZNAME:BST
DTSTART:20170326T020000Z
RRULE:FREQ=YEARLY;BYMONTH=3;BYDAY=-1SU
END:DAYLIGHT
BEGIN:STANDARD
TZOFFSETFROM:+0100
TZOFFSETTO:+0000
TZNAME:GMT
DTSTART:20171029T020000Z
RRULE:FREQ=YEARLY;BYMONTH=10;BYDAY=-1SU
END:STANDARD
END:VTIMEZONE
BEGIN:VEVENT
SUMMARY:Weekly Open Games 29.09.2017-30.09.2017
DTSTAMP:20170925T181348Z
SEQUENCE:0
UID:578-1-5734b46ed07498cf109a779f6d92c724@wogames.info
ORGANIZER;CN="JackReign":no-reply@wogames.info
DESCRIPTION:\n\n	Сторона 1:  KND  FMF  FOX  WFA  
	RB  BE  A+         |        Сторона 2:  5thPK 
	 GHOST  RSG  LG  MOR  BB  SF\n\n\n\n	В пятницу 29.09.2
	017 играем:\n1. In bloom ВС РФ — Ч
	СО [Остров — Lingor] Сторона 1 
	в атаке\n\n	2. Тепловой удар US Army —
	 ВС РФ [Остров — Caribou Frontier
	] Сторона 1 в обор
	оне\n3. По количеству игроков\
	nИгровой Администратор — [KND] JackRe
	ign\n\nВ субботу 30.09.2017 играем: \n1. Armata de 
	Strigoi SSA — FSA [Остров — Reshmaan Province
	] Сторона 1 в обороне\n\n	2. 
	Волчья яма ВС РФ + USMC — ЧСО [
	Остров — Thirsk Winter] Сторона 
	1 в атаке\n\n	3. По количес
	тву игроков\nИгровой Администр
	атор — [RB] RavingRobot\n\nКомандование:\n\n\n\n	
	\n\n\n\n	 \n\n\n\n	Внимание
	! Миссии могут быть 
	изменены в течение недели при необходим
	ости.\n\n\n\n	 \n\n\n\n	 \n\n
DTSTART:20170929T180000Z
DTEND:20170930T185900Z
END:VEVENT
END:VCALENDAR
