BEGIN:VCALENDAR
VERSION:2.0
PRODID:-//IP.Board Calendar 4.3.6//EN
METHOD:PUBLISH
CALSCALE:GREGORIAN
X-WR-CALNAME:WOG
BEGIN:VTIMEZONE
TZID:Europe/London
TZURL:http://tzurl.org/zoneinfo/Europe/London
X-LIC-LOCATION:Europe/London
BEGIN:DAYLIGHT
TZOFFSETFROM:+0000
TZOFFSETTO:+0100
TZNAME:BST
DTSTART:20170326T020000Z
RRULE:FREQ=YEARLY;BYMONTH=3;BYDAY=-1SU
END:DAYLIGHT
BEGIN:STANDARD
TZOFFSETFROM:+0100
TZOFFSETTO:+0000
TZNAME:GMT
DTSTART:20171029T020000Z
RRULE:FREQ=YEARLY;BYMONTH=10;BYDAY=-1SU
END:STANDARD
END:VTIMEZONE
BEGIN:VEVENT
SUMMARY:Weekly Open Games 22.09.2017-23.09.2017
DTSTAMP:20170918T175228Z
SEQUENCE:0
UID:575-1-5734b46ed07498cf109a779f6d92c724@wogames.info
ORGANIZER;CN="RavingRobot":no-reply@wogames.info
DESCRIPTION:\n\n	В пятницу 22.09.2017 играем:\n\n\n\n	
	1. Arab spring ВС РФ — FSA [Остров — Resh
	maan] Сторона 1 в атаке\n\n\n\n	
	2. Алтарь (↓) ОДКБ — US Army [
	Остров — Chernarus] Сторона 1 в
	 обороне\n\n\n\n	3. По кол
	ичеству игроков\n\n\n\n	Игровой админ
	истратор — [KND]JackReign\n\n\n\n	 \n\n\n\n	В суб
	боту 23.09.2017 играем:\n\n\n\n
		1. Топливный кризис ВС СССР
	 — USMC [Остров — Faysh Khabur] Стор
	она 1 в обороне\n\n\n\n	2. Останкин
	о Armored USMC — ВС РФ [Остров — Chernar
	us] Сторона 1 в атаке\n\n\n\n	3
	. По количеству игроков\n\n\n\n	
	Игровой администратор — [FOX]onoda\n\n
	\n\n	 \n\n\n\n	Командование:\n\n\n\n	\n\n\n
		 \n\n\n\n	Внимание! 
	Миссии могут быть обновлены 
	в течение недели\, следите за темой!\n\n
DTSTART:20170922T180000Z
DTEND:20170923T185900Z
END:VEVENT
END:VCALENDAR
