BEGIN:VCALENDAR
VERSION:2.0
PRODID:-//IP.Board Calendar 4.3.6//EN
METHOD:PUBLISH
CALSCALE:GREGORIAN
X-WR-CALNAME:WOG
BEGIN:VTIMEZONE
TZID:Europe/London
TZURL:http://tzurl.org/zoneinfo/Europe/London
X-LIC-LOCATION:Europe/London
BEGIN:DAYLIGHT
TZOFFSETFROM:+0000
TZOFFSETTO:+0100
TZNAME:BST
DTSTART:20170326T020000Z
RRULE:FREQ=YEARLY;BYMONTH=3;BYDAY=-1SU
END:DAYLIGHT
BEGIN:STANDARD
TZOFFSETFROM:+0100
TZOFFSETTO:+0000
TZNAME:GMT
DTSTART:20171029T020000Z
RRULE:FREQ=YEARLY;BYMONTH=10;BYDAY=-1SU
END:STANDARD
END:VTIMEZONE
BEGIN:VEVENT
SUMMARY:Weekly Open Games 15.09.2017-16.09.2017
DTSTAMP:20170910T205720Z
SEQUENCE:0
UID:569-1-5734b46ed07498cf109a779f6d92c724@wogames.info
ORGANIZER;CN="RavingRobot":no-reply@wogames.info
DESCRIPTION:\n\n	В пятницу 15.09.2017 играем:\n\
	n\n\n	1. Блицкриг US Army — ВС РФ
	 [Остров — Chernarus] Сторона 1 в атаке\n\n\n
	\n	2. Gharunta US Army — NAPA [Остров — Tor
	aBora] Сторона 1 в обороне\n\n\n\
	n	3. По количеству игроков\n\n\n\
	n	Игровой администратор — [RB] RavingRobot\
	n\n\n\n	 \n\n\n\n	В субботу 16.09.2017 игра
	ем:\n\n\n\n	1. Оплот свобо
	ды ВС РФ — ЧСО [Остров — Emi
	ta] Сторона 1 в обороне\n\n\n\n	2
	. Бастам US Army — ОДКБ [Остров — 
	Takistan] Сторона 1 в атаке\n\n\n\n	 \n\
	n\n\n	3. По количеству игроков\n
	\n\n\n	Игровой администратор — [GHOST]
	sup\n\n\n\n	 \n\n\n\n	Командование:\n\n\n\n	\n
DTSTART:20170915T180000Z
DTEND:20170916T185900Z
END:VEVENT
END:VCALENDAR
