BEGIN:VCALENDAR
VERSION:2.0
PRODID:-//IP.Board Calendar 4.3.6//EN
METHOD:PUBLISH
CALSCALE:GREGORIAN
X-WR-CALNAME:WOG
BEGIN:VTIMEZONE
TZID:Europe/London
TZURL:http://tzurl.org/zoneinfo/Europe/London
X-LIC-LOCATION:Europe/London
BEGIN:DAYLIGHT
TZOFFSETFROM:+0000
TZOFFSETTO:+0100
TZNAME:BST
DTSTART:20170326T020000Z
RRULE:FREQ=YEARLY;BYMONTH=3;BYDAY=-1SU
END:DAYLIGHT
BEGIN:STANDARD
TZOFFSETFROM:+0100
TZOFFSETTO:+0000
TZNAME:GMT
DTSTART:20171029T020000Z
RRULE:FREQ=YEARLY;BYMONTH=10;BYDAY=-1SU
END:STANDARD
END:VTIMEZONE
BEGIN:VEVENT
SUMMARY:Weekly Open Games 08.09.2017-09.09.2017
DTSTAMP:20170904T121413Z
SEQUENCE:0
UID:567-1-5734b46ed07498cf109a779f6d92c724@wogames.info
ORGANIZER;CN="RavingRobot":no-reply@wogames.info
DESCRIPTION:\n\n	В пятницу 08.09.2017 играем:
	\n\n\n\n	1. Операция \"Медный таз\" ВС
	 РФ — US Army + KSK [Остров — Celle]
	 Сторона 1 в атаке\n\n\n\n	2. Га
	рмсар ОДКБ — US Army [Остров — Ta
	kistan] Сторона 1 в обороне\n\n\n\
	n	3. По количеству игроков\n\n\n\
	n	Игровой администратор — [RB] RavingRobot\
	n\n\n\n	 \n\n\n\n	В субботу 09.09.2017 играем:\n\n\n\n	1.
	 Overkill US Army — TA [Остров — Reshmaan] 
	Сторона 1 в обороне\n\n\n\n	2
	. Большая птица USMC — ВС РФ [
	Остров — Beketov] Сторона 1 в ата
	ке\n\n\n\n	3. По количеству иг
	роков\n\n\n\n	Игровой администратор —
	 [FOX]visu\n\n\n\n	 \n\n\n\n	Командование:\n\n\n\n	\n
	\n\n	 \n\n\n\n	Внимание! Мисс
	ия \"Операция \"Медный 
	таз\" будет порезана
	.\n\n\n\n	Остальные 
	миссии также могут
	 быть изменены в течение недели 
	при необходимости.\n\n
DTSTART:20170908T180000Z
DTEND:20170909T185900Z
END:VEVENT
END:VCALENDAR
