BEGIN:VCALENDAR
VERSION:2.0
PRODID:-//IP.Board Calendar 4.3.6//EN
METHOD:PUBLISH
CALSCALE:GREGORIAN
X-WR-CALNAME:WOG
BEGIN:VTIMEZONE
TZID:Europe/London
TZURL:http://tzurl.org/zoneinfo/Europe/London
X-LIC-LOCATION:Europe/London
BEGIN:DAYLIGHT
TZOFFSETFROM:+0000
TZOFFSETTO:+0100
TZNAME:BST
DTSTART:20170326T020000Z
RRULE:FREQ=YEARLY;BYMONTH=3;BYDAY=-1SU
END:DAYLIGHT
BEGIN:STANDARD
TZOFFSETFROM:+0100
TZOFFSETTO:+0000
TZNAME:GMT
DTSTART:20171029T020000Z
RRULE:FREQ=YEARLY;BYMONTH=10;BYDAY=-1SU
END:STANDARD
END:VTIMEZONE
BEGIN:VEVENT
SUMMARY:WOG 01.09.2017 - 02.09.2017
DTSTAMP:20170829T172506Z
SEQUENCE:0
UID:564-1-5734b46ed07498cf109a779f6d92c724@wogames.info
ORGANIZER;CN="visu":no-reply@wogames.info
DESCRIPTION:\n\n	Сторона 1:  KND  FMF  FOX  WFA  
	RB  BE  A+         |        Сторона 2:  5thPK 
	 GHOST  RSG  LG  MOR  BB  SF\n\n\n\n	\nВ пятницу 01.09
	.2017 играем:\n\n\n\n	1. La Resistencia extend
	ed ВС РФ— НАПА [Остров — Podagorsk] С
	торона 1 в атаке\n\n\n\n	2. Gurdur Takistan
	i locals — ВС РФ [Остров — Takistan]
	 Сторона 1 в обороне\n\n\n\n
		3. По количеству игроков\n\n\n\n
		Игровой Администратор — [RB] RavingRobot \
	n\n\n\n	\nВ субботу 02.09.2017 играем: \n\n\n\n	1. Unde
	r sky USMC — TA + African Rebels [Остров — Li
	ngor] Сторона 1 в обороне\n\n\n\n	2.
	 Blister ВС РФ — ACR  [Остров — Na
	pf] Сторона 1 в атаке\n\n\n\n	3
	. По количеству игроков\n\n\n\n	И
	гровой Администратор — [FOX] Onoda\n\n\n\
	n	\nКомандование:\n\n\n\n	\n\n\n	 \n\n\n\n	!!
	!\n\n\n\n	Так же просим обрат
	ить внимание\, что 
	на миссии Blister но
	шение проти
	вогаза обяз
	ательно! И
	нформация 
	о том\, как включи
	ть возможность надев
	ания  противогаза в реалиях WOG ACE есть
	 в гайде JackReign. \n\n
DTSTART:20170901T180000Z
DTEND:20170902T185900Z
END:VEVENT
END:VCALENDAR
