BEGIN:VCALENDAR
VERSION:2.0
PRODID:-//IP.Board Calendar 4.3.6//EN
METHOD:PUBLISH
CALSCALE:GREGORIAN
X-WR-CALNAME:WOG
BEGIN:VTIMEZONE
TZID:Europe/London
TZURL:http://tzurl.org/zoneinfo/Europe/London
X-LIC-LOCATION:Europe/London
BEGIN:DAYLIGHT
TZOFFSETFROM:+0000
TZOFFSETTO:+0100
TZNAME:BST
DTSTART:20170326T020000Z
RRULE:FREQ=YEARLY;BYMONTH=3;BYDAY=-1SU
END:DAYLIGHT
BEGIN:STANDARD
TZOFFSETFROM:+0100
TZOFFSETTO:+0000
TZNAME:GMT
DTSTART:20171029T020000Z
RRULE:FREQ=YEARLY;BYMONTH=10;BYDAY=-1SU
END:STANDARD
END:VTIMEZONE
BEGIN:VEVENT
SUMMARY:Weekly Open Games 18.08.2017-19.08.2017
DTSTAMP:20170815T155158Z
SEQUENCE:0
UID:557-1-5734b46ed07498cf109a779f6d92c724@wogames.info
ORGANIZER;CN="RavingRobot":no-reply@wogames.info
DESCRIPTION:\n\n	В пятницу 18.08.2017 играем:
	\n\n\n\n	1. Поп Иван ACR — ВС РФ [Остр
	ов — Chernarus Winter] Сторона 1 в ата
	ке\n\n\n\n	2. Чак-Чак TA — TL [Остр
	ов — Takistan] Сторона 1 в обороне\
	n\n\n\n	3. По количеству игроков\
	n\n\n\n	Игровой администратор — [RB] RavingRo
	bot\n\n\n\n	 \n\n\n\n	В субботу 19.08.2017 иг
	раем:\n\n\n\n	1. Гавань ЧСО — P
	MC [Остров — Napf] Сторона 1 в
	 обороне\n\n\n\n	2. Четыре ст
	ихии USMC — ОДКБ [Остров — Capr
	aia] Сторона 1 в атаке\n\n\n\n	3
	. По количеству игроков\n\n\n\n	
	Игровой администратор — [FOX]onoda\n\n
	\n\n	 \n\n\n\n	Командование:\n\n\n\n
		\n\n\n	Внимание! 
	Миссии могут быть изменены в 
	течение недели при необходимости.\n\n
DTSTART:20170818T180000Z
DTEND:20170819T185900Z
END:VEVENT
END:VCALENDAR
