BEGIN:VCALENDAR
VERSION:2.0
PRODID:-//IP.Board Calendar 4.3.6//EN
METHOD:PUBLISH
CALSCALE:GREGORIAN
X-WR-CALNAME:WOG
BEGIN:VTIMEZONE
TZID:Europe/London
TZURL:http://tzurl.org/zoneinfo/Europe/London
X-LIC-LOCATION:Europe/London
BEGIN:DAYLIGHT
TZOFFSETFROM:+0000
TZOFFSETTO:+0100
TZNAME:BST
DTSTART:20170326T020000Z
RRULE:FREQ=YEARLY;BYMONTH=3;BYDAY=-1SU
END:DAYLIGHT
BEGIN:STANDARD
TZOFFSETFROM:+0100
TZOFFSETTO:+0000
TZNAME:GMT
DTSTART:20171029T020000Z
RRULE:FREQ=YEARLY;BYMONTH=10;BYDAY=-1SU
END:STANDARD
END:VTIMEZONE
BEGIN:VEVENT
SUMMARY:WOG 11.08.2017 - 12.08.2017
DTSTAMP:20170808T172030Z
SEQUENCE:0
UID:553-1-5734b46ed07498cf109a779f6d92c724@wogames.info
ORGANIZER;CN="JackReign":no-reply@wogames.info
DESCRIPTION:\n\n	Сторона 1:  KND  FMF  FOX  WFA  
	RB  BE  A+         |        Сторона 2:  5thPK 
	 GHOST  RSG  LG  MOR  BB  SF\n\n	 \n\n\n\n	В пятницу 
	11.08.2017 играем:\n1. На абордаж ВС 
	РФ — USMC [Остров — Schwemlitz] Сторона 1 в 
	атаке\n\n	2. Flash of rage  ВС РФ — NAPA [
	Остров — Beketov] Сторона 
	1 в обороне\n\n	3. По кол
	ичеству игроков\nИгровой Админ
	истратор — [RB] RavingRobot\n\nВ субботу 12.08.2
	017 играем: \n1. The Union Jack BAF — ВС РФ [О
	стров — Reshman Province] Сторона 1 в обороне\
	n\n	2. Ticket to hell NAPA — ВС РФ [Остров — Cher
	narus Winter] Сторона 1 в атаке
	\n\n	3. По количеству игроко
	в\nИгровой Администратор — [FOX] Visu\n\nКом
	андование:\n\n\n\n	\n
DTSTART:20170811T180000Z
DTEND:20170812T205900Z
END:VEVENT
END:VCALENDAR
