BEGIN:VCALENDAR
VERSION:2.0
PRODID:-//IP.Board Calendar 4.3.6//EN
METHOD:PUBLISH
CALSCALE:GREGORIAN
X-WR-CALNAME:WOG
BEGIN:VTIMEZONE
TZID:Europe/London
TZURL:http://tzurl.org/zoneinfo/Europe/London
X-LIC-LOCATION:Europe/London
BEGIN:DAYLIGHT
TZOFFSETFROM:+0000
TZOFFSETTO:+0100
TZNAME:BST
DTSTART:20170326T020000Z
RRULE:FREQ=YEARLY;BYMONTH=3;BYDAY=-1SU
END:DAYLIGHT
BEGIN:STANDARD
TZOFFSETFROM:+0100
TZOFFSETTO:+0000
TZNAME:GMT
DTSTART:20171029T020000Z
RRULE:FREQ=YEARLY;BYMONTH=10;BYDAY=-1SU
END:STANDARD
END:VTIMEZONE
BEGIN:VEVENT
SUMMARY:Weekly Open Games 21.07.2017 - 22.07.2017
DTSTAMP:20170718T185901Z
SEQUENCE:0
UID:541-1-5734b46ed07498cf109a779f6d92c724@wogames.info
ORGANIZER;CN="JackReign":no-reply@wogames.info
DESCRIPTION:\n\n	Сторона 1:  KND  FMF  FOX  WFA  
	RB  BE  A+         |        Сторона 2:  5thPK 
	 GHOST  RSG  LG  MOR  BB  SF\n\n\n\n	\nВ пятницу 21.07
	.2017 играем:\n\n\n\n	1. Точка сброса
	 US Army — ВС РФ [Остров — Podagorsk] Сто
	рона 1 в атаке\n\n\n\n	2. Gharunta US Army —
	 НАПА [Остров — ToraBora] Сторон
	а 1 в обороне\n\n\n\n	3. По 
	количеству игроков\n\n\n\n	Игровой
	 Администратор — [RSG] JackReign\n\n	 \n\n\n\n
		\nВ субботу 22.07.2017 играем: \n\n\n\n
		1. Игра USA — BAF [Остров — WOG Island
	 2] Сторона 1 в обороне\n\n\n\n	2. Witness R
	P TL — US Army [Остров — Takistan] Сто
	рона 1 в атаке\n\n\n\n	3. По
	 количеству игроков\n\n\n\n	Игровой
	 Администратор — [RB] RavingRobot\n\n\n\n	\nКо
	мандование:\n\n\n\n	\n\n\n	 \n\n
DTSTART:20170721T180000Z
DTEND:20170722T180000Z
END:VEVENT
END:VCALENDAR
