BEGIN:VCALENDAR
VERSION:2.0
PRODID:-//IP.Board Calendar 4.3.6//EN
METHOD:PUBLISH
CALSCALE:GREGORIAN
X-WR-CALNAME:WOG
BEGIN:VTIMEZONE
TZID:Europe/London
TZURL:http://tzurl.org/zoneinfo/Europe/London
X-LIC-LOCATION:Europe/London
BEGIN:DAYLIGHT
TZOFFSETFROM:+0000
TZOFFSETTO:+0100
TZNAME:BST
DTSTART:20170326T020000Z
RRULE:FREQ=YEARLY;BYMONTH=3;BYDAY=-1SU
END:DAYLIGHT
BEGIN:STANDARD
TZOFFSETFROM:+0100
TZOFFSETTO:+0000
TZNAME:GMT
DTSTART:20171029T020000Z
RRULE:FREQ=YEARLY;BYMONTH=10;BYDAY=-1SU
END:STANDARD
END:VTIMEZONE
BEGIN:VEVENT
SUMMARY:WOG A2 30.06.2017-01.07.2017
DTSTAMP:20170626T154139Z
SEQUENCE:0
UID:530-1-5734b46ed07498cf109a779f6d92c724@wogames.info
ORGANIZER;CN="Rob":no-reply@wogames.info
DESCRIPTION:\n\n	Внимание! Летняя ротация
	:\n\n\n\n	Сторона 1:  KND  FMF  FOX  WFA  RB  
	BE  A+         |        Сторона 2:  5thPK  GHOST 
	 RSG  LG  MOR  BB  SF\n\n\n\n	 \n\n\n\n	В пятницу 30.0
	6.2017 играем:\n\n\n\n	1. Thunder from Heaven US Army R
	angers — МСВ [Остров — Celle] Сторона 1
	 в атаке\n\n\n\n	2. Witness RP TL — US Army 
	[Остров — Takistan] Сторона 1 в
	 обороне\n\n\n\n	3. По кол
	ичеству игроков\n\n\n\n	Игровой админ
	истратор — [GHOST]sup\n\n\n\n	 \n\n\n\n	В субботу
	 01.07.2017 играем:\n\n\n\n	1. Deep Strike (↓) US 
	Army — TA [Остров — Zagrabad] Сторона 
	1 в обороне\n\n\n\n	2. За ВДВ! (100
	) ВДВ РФ — USMC [Остров — Sahra
	ni] Сторона 1 в атаке\n\n\n\n	3
	. По количеству игроков\n\n\n\n	
	Игровой администратор — [GHOST]Rob\n\n
	\n\n	 \n\n\n\n	Командование:\n\n\n\n	\n
DTSTART:20170630T180000Z
DTEND:20170701T205900Z
END:VEVENT
END:VCALENDAR
