BEGIN:VCALENDAR
VERSION:2.0
PRODID:-//IP.Board Calendar 4.3.6//EN
METHOD:PUBLISH
CALSCALE:GREGORIAN
X-WR-CALNAME:WOG
BEGIN:VTIMEZONE
TZID:Europe/London
TZURL:http://tzurl.org/zoneinfo/Europe/London
X-LIC-LOCATION:Europe/London
BEGIN:DAYLIGHT
TZOFFSETFROM:+0000
TZOFFSETTO:+0100
TZNAME:BST
DTSTART:20170326T020000Z
RRULE:FREQ=YEARLY;BYMONTH=3;BYDAY=-1SU
END:DAYLIGHT
BEGIN:STANDARD
TZOFFSETFROM:+0100
TZOFFSETTO:+0000
TZNAME:GMT
DTSTART:20171029T020000Z
RRULE:FREQ=YEARLY;BYMONTH=10;BYDAY=-1SU
END:STANDARD
END:VTIMEZONE
BEGIN:VEVENT
SUMMARY:WOG 09.06.2017 - 10.06.2017 (РОТАЦИЯ)
DTSTAMP:20170605T124338Z
SEQUENCE:0
UID:513-1-5734b46ed07498cf109a779f6d92c724@wogames.info
ORGANIZER;CN="sup":no-reply@wogames.info
DESCRIPTION:\n\n	Внимание! Летняя ротация
	:\n\n\n\n	Сторона 1:  KND  FMF  FOX  WFA  RB  
	BE  A+         |        Сторона 2:  5thPK  GHOST 
	 RSG  LG  MOR  BB  SF\n\n\n\n	 \n\n\n\n	В пятницу 09.0
	6.2017 играем:\n\n\n\n	1. Firefly BAF — TA [
	Остров — Takistan] Сторона 1 в атаке (@Panzer)\n\
	n\n\n	2. Power Rangers US Rangers — NAPA [Остров —
	 Podagorsk] Сторона 1 в обороне\n\n\n\
	n	3. По количеству игроков\n\n\n\
	n	Игровой администратор — [RB] RavingRobot\
	n\n\n\n	 \n\n\n\n	В субботу 10.06.2017 играем:\n\n\n\n
		1.  Firestorm (↓) ЧСО — ЧДКЗ
	 + НАПА [Остров — Beketov] Сторона 1 в обо
	роне\n\n\n\n	2.  mFOB EAST GUARD TA — US Army [Ос
	тров — Takistan] Сторона 1 в атаке\
	n\n\n\n	3. По количеству игроков
	\n\n\n\n	Игровой администратор — [RSG]Jack
	Reign\n\n\n\n	 \n\n\n\n	Командование:\n\n\n\n	\n
DTSTART:20170609T180000Z
DTEND:20170610T205900Z
END:VEVENT
END:VCALENDAR
