BEGIN:VCALENDAR
VERSION:2.0
PRODID:-//IP.Board Calendar 4.3.6//EN
METHOD:PUBLISH
CALSCALE:GREGORIAN
X-WR-CALNAME:WOG
BEGIN:VTIMEZONE
TZID:Europe/London
TZURL:http://tzurl.org/zoneinfo/Europe/London
X-LIC-LOCATION:Europe/London
BEGIN:DAYLIGHT
TZOFFSETFROM:+0000
TZOFFSETTO:+0100
TZNAME:BST
DTSTART:20170326T020000Z
RRULE:FREQ=YEARLY;BYMONTH=3;BYDAY=-1SU
END:DAYLIGHT
BEGIN:STANDARD
TZOFFSETFROM:+0100
TZOFFSETTO:+0000
TZNAME:GMT
DTSTART:20171029T020000Z
RRULE:FREQ=YEARLY;BYMONTH=10;BYDAY=-1SU
END:STANDARD
END:VTIMEZONE
BEGIN:VEVENT
SUMMARY:WOG 02.06.2017 - 03.06.2017
DTSTAMP:20170530T010644Z
SEQUENCE:0
UID:508-1-5734b46ed07498cf109a779f6d92c724@wogames.info
ORGANIZER;CN="sup":no-reply@wogames.info
DESCRIPTION:\n\n	В пятницу 02.06.2017 играем:\n\n\n\n	1. 
	Freedom Fighters USMC — ЧДКЗ [Остров — Lingor
	] KND в атаке\n\n\n\n	2.  Flank Attack 2 ЧСО —
	 TL [Остров — Fallujah] KND в оборо
	не\n\n\n\n	3. По количеству игр
	оков\n\n\n\n	Игровой администратор — [GH
	OST]Rob\n\n\n\n	 \n\n\n\n	В субботу 03.06.2017 играем:\n\n\
	n\n	1.  District Kezban TL — TA + ВС РФ [Остров — R
	eshman Province] KND в обороне\n\n\n\n	2. Unk
	nown War (↓) ВВ МВД РФ — НАПА [Остров 
	— Chernarus] KND в атаке\n\n\n\n	3. По
	 количеству игроков\n\n\n\n	Игрово
	й администратор — [RSG]JackReign\n\n\n\n	 \
	n\n\n\n	Командование:\n\n\n
	\n	Внимание! До пред
	стоящей ротации отряд BB прип
	исывается к стороне KND.\n\
	n\n\n	\n\n\n	Некоторые 
	миссии могут будут изменены 
	в течение недели\, следите за темой.\n\n
DTSTART:20170602T180000Z
DTEND:20170603T205900Z
END:VEVENT
END:VCALENDAR
