BEGIN:VCALENDAR
VERSION:2.0
PRODID:-//IP.Board Calendar 4.3.6//EN
METHOD:PUBLISH
CALSCALE:GREGORIAN
X-WR-CALNAME:WOG
BEGIN:VTIMEZONE
TZID:Europe/London
TZURL:http://tzurl.org/zoneinfo/Europe/London
X-LIC-LOCATION:Europe/London
BEGIN:DAYLIGHT
TZOFFSETFROM:+0000
TZOFFSETTO:+0100
TZNAME:BST
DTSTART:20170326T020000Z
RRULE:FREQ=YEARLY;BYMONTH=3;BYDAY=-1SU
END:DAYLIGHT
BEGIN:STANDARD
TZOFFSETFROM:+0100
TZOFFSETTO:+0000
TZNAME:GMT
DTSTART:20171029T020000Z
RRULE:FREQ=YEARLY;BYMONTH=10;BYDAY=-1SU
END:STANDARD
END:VTIMEZONE
BEGIN:VEVENT
SUMMARY:WOG 19.05.2017 - 20.05.2017
DTSTAMP:20170514T205948Z
SEQUENCE:0
UID:501-1-5734b46ed07498cf109a779f6d92c724@wogames.info
ORGANIZER;CN="sup":no-reply@wogames.info
DESCRIPTION:\n\n	В пятницу 19.05.2017 играем:\n\n\n\n	1.
	 Pirate Bay USMC — NAPA [Остров — Sahrani] KND в
	 обороне\n\n\n\n	2. Bridge US Forces + UN — TM
	 [Остров — Fallujah] KND в атаке\n\n\n
	\n	3. По количеству игроков\n\n\n
	\n	Игровой администратор — [GHOST]sup\n\n\n
	\n	 \n\n\n\n	В субботу 20.05.2017 играе
	м:\n\n\n\n	1. Дубровка ЧСО — ЧДКЗ [Ост
	ров — Chernarus W.] KND в атаке\n\n\n\n	2. San
	aag Bari ВС РФ — NAPA [Остров — ToraBora
	] KND в обороне\n\n\n\n	3. По
	 количеству игроков\n\n\n\n	Игров
	ой администратор — [GHOST]Rob\n\n\n\n	 \n\n
	\n\n	Командование:\n\n\n\n	\n\n\n	Внимание
	! Миссия \"Sanaag Bari\" буд
	ет урезана в течение недели. Следите 
	за темой.\n\n
DTSTART:20170519T180000Z
DTEND:20170520T205900Z
END:VEVENT
END:VCALENDAR
