BEGIN:VCALENDAR
VERSION:2.0
PRODID:-//IP.Board Calendar 4.3.6//EN
METHOD:PUBLISH
CALSCALE:GREGORIAN
X-WR-CALNAME:WOG
BEGIN:VTIMEZONE
TZID:Europe/London
TZURL:http://tzurl.org/zoneinfo/Europe/London
X-LIC-LOCATION:Europe/London
BEGIN:DAYLIGHT
TZOFFSETFROM:+0000
TZOFFSETTO:+0100
TZNAME:BST
DTSTART:20170326T020000Z
RRULE:FREQ=YEARLY;BYMONTH=3;BYDAY=-1SU
END:DAYLIGHT
BEGIN:STANDARD
TZOFFSETFROM:+0100
TZOFFSETTO:+0000
TZNAME:GMT
DTSTART:20171029T020000Z
RRULE:FREQ=YEARLY;BYMONTH=10;BYDAY=-1SU
END:STANDARD
END:VTIMEZONE
BEGIN:VEVENT
SUMMARY:Weekly Open Games 12.05.2017 - 13.05.2017
DTSTAMP:20170508T131009Z
SEQUENCE:0
UID:497-1-5734b46ed07498cf109a779f6d92c724@wogames.info
ORGANIZER;CN="RavingRobot":no-reply@wogames.info
DESCRIPTION:\n\n	В пятницу 12.05.2017 играем:\n\n\n\n	1. 
	Capture Kallista ВС РФ + TA — TL [Остров —
	 Reshmaan] Сторона KND в атаке\n\n\n\n	2. Armored
	 Fist (p.1) TA — TL [Остров — Clafghan] Сто
	рона KND в обороне\n\n\n\n	3. 
	По количеству игроков\n\n\n\n	Игр
	овой администратор — [RB] RavingRobot\n\n\n\n	
	 \n\n\n\n	В субботу 13.05.2017 играем:\n\n\n\n	1. Arsena
	l: Origin US Army — TL [Остров — Fata] Сторо
	на KND в обороне\n\n\n\n	2. Red Harvest 
	ЧДКЗ — ЧСО [Остров — Chernarus]
	 Сторона KND в атаке\n\n\n\n	3
	. По количеству игроков\n\n\n\n	
	Игровой администратор — [RSG]JackReign
	\n\n\n\n	 \n\n\n\n	Командование:\n\n\n\
	n	\n\n\n	Внимание! 
	Миссии могут быть изменены в 
	течение недели при необходимости.\n\n
DTSTART:20170512T180000Z
DTEND:20170513T205900Z
END:VEVENT
END:VCALENDAR
