BEGIN:VCALENDAR
VERSION:2.0
PRODID:-//IP.Board Calendar 4.3.6//EN
METHOD:PUBLISH
CALSCALE:GREGORIAN
X-WR-CALNAME:WOG
BEGIN:VTIMEZONE
TZID:Europe/London
TZURL:http://tzurl.org/zoneinfo/Europe/London
X-LIC-LOCATION:Europe/London
BEGIN:DAYLIGHT
TZOFFSETFROM:+0000
TZOFFSETTO:+0100
TZNAME:BST
DTSTART:20170326T020000Z
RRULE:FREQ=YEARLY;BYMONTH=3;BYDAY=-1SU
END:DAYLIGHT
BEGIN:STANDARD
TZOFFSETFROM:+0100
TZOFFSETTO:+0000
TZNAME:GMT
DTSTART:20171029T020000Z
RRULE:FREQ=YEARLY;BYMONTH=10;BYDAY=-1SU
END:STANDARD
END:VTIMEZONE
BEGIN:VEVENT
SUMMARY:WOG 05.05.2017 - 07.05.2017
DTSTAMP:20170502T055453Z
SEQUENCE:0
UID:493-1-5734b46ed07498cf109a779f6d92c724@wogames.info
ORGANIZER;CN="sup":no-reply@wogames.info
DESCRIPTION:\n\n	В пятницу 05.05.2017 играем:\n\n\n\n	1. 
	Enduring Freedom ВС РФ — US Army + USMC [Остров 
	— Celle] KND в атаке\n\n\n\n	2. Under Sky USMC
	 — TA [Остров — Lingor] KND в о
	бороне\n\n\n\n	3. По количе
	ству игроков\n\n\n\n	Игровой администрат
	ор — [GHOST]Rob\n\n\n\n	 \n\n\n\n	В субботу 06.05.2017
	 играем:\n\n\n\n	1. Мертвый сезон 
	ВС РФ — PMC [Остров — Namalsk] KND в о
	бороне\n\n\n\n	2.  Бастам US Army —
	 ОДКБ [Остров — Takistan] KND в а
	таке\n\n\n\n	3. По количеству
	 игроков\n\n\n\n	Игровой администратор — 
	[GHOST]sup\n\n\n\n	 \n\n\n\n	В воскресенье 07.05.2017 
	играем:\n\n\n\n	1. Siege SWAT + National Guard — PMC 
	[Остров — Emita] KND в атаке\n\n\n\n	2. Selectiv
	e fire US Army  —  TL [Остров — Zargabad] K
	ND в обороне\n\n\n\n	3. Новый Собор 
	USMC — ВС РФ [Остров — Chernar
	us] KND в атаке\n\n\n\n	Игровой админстратор 
	— [KND]crabe\n\n\n\n	 \n\n\n\n	Командование:\n
	\n\n\n	\n\n\n	Возможны не
	большие изменения в миссиях\, следите з
	а темой.\n\n
DTSTART:20170505T180000Z
DTEND:20170507T205900Z
END:VEVENT
END:VCALENDAR
